Workbook

Sheet Graph Data
A1: PCO# | B1: Status | C1: Reason Code | D1: Bid Package # | E1: CO# | F1: Description | G1: Amount | H1: Change Days | K1: Adjusted Contract Sum | L1: Work Previously Completed | M1: Work Completed & Stored This Period | Q1: Pay App 1 | R1: Pay App 2 | S1: Pay App 3 | T1: Pay App 4 | U1: Pay App 5 | V1: Pay App 6 | W1: Pay App 7 | X1: Pay App 8 | Y1: Pay App 9 | Z1: Pay App 10 | AA1: Pay App 11 | AB1: Pay App 12 | AC1: Pay App 13 | AD1: Pay App 14 | AE1: Pay App 15 | AF1: Pay App 16 | AG1: Pay App 17 | AH1: Pay App 18 | AI1: Pay App 19 | AJ1: Pay App 20 | AK1: Pay App 21 | AL1: Pay App 22 | AM1: Pay App 23 | AN1: Pay App 24 | AO1: Pay App 25 | AP1: Pay App 26 | AQ1: Pay App 27 | AR1: Pay App 28 | AS1: Pay App 29 | AT1: Pay App 30 | AU1: Pay App 31 | AV1: Pay App 32 | AW1: Pay App 33 | AX1: Pay App 34 | AY1: Pay App 35 | AZ1: Pay App 36 | BA1: Pay App 37 | BB1: Pay App 38 | BC1: Pay App 39 | BD1: Pay App 40 | BE1: Pay App 41 | BF1: Pay App 42 | BG1: Pay App 43 | BH1: Pay App 44 | BI1: Pay App 45 | BJ1: Pay App 46 | BK1: Pay App 47 | BL1: Pay App 48 | BM1: Pay App 49 | BN1: Pay App 50 | BO1: Pay App 51 | BP1: Pay App 52 | BQ1: Pay App 53 | BR1: Pay App 54 | BS1: Pay App 55 | BT1: Pay App 56 | BU1: Pay App 57 | BV1: Pay App 58 | BW1: Pay App 59 | BX1: Pay App 60
A2: PCO 1 | B2: ='PCO Log'!E7 -> 0 | C2: ='PCO Log'!E4 -> 0 | D2: {=INDEX('PCO Log'!$E$5:$SJ$5, 1, ROWS('Graph Data'!$D$2:D2))} -> 0 | E2: ='PCO Log'!E8 -> 0 | F2: ='PCO Log'!E3 -> 0 | G2: ='PCO Log'!E10 -> 0 | H2: ='PCO Log'!E6 -> 0 | J2: Pay App 1 | K2: ='Pay App 1'!H33 -> 0 | L2: 0 | M2: ='Pay App 1'!H149 -> 0 | O2: ='Pay App 1'!B57 -> 00 01 00 | P2: ='Pay App 1'!C57 -> Design Fee (if design build) | Q2: =SUMIFS('PCO Log'!$E12:$SJ12,'PCO Log'!$E$9:$SJ$9,'Graph Data'!Q$1,'PCO Log'!$E$7:$SJ$7,"Approved") -> 0 | R2: =SUMIFS('PCO Log'!$E12:$SJ12,'PCO Log'!$E$9:$SJ$9,'Graph Data'!R$1,'PCO Log'!$E$7:$SJ$7,"Approved") -> 0 | S2: =SUMIFS('PCO Log'!$E12:$SJ12,'PCO Log'!$E$9:$SJ$9,'Graph Data'!S$1,'PCO Log'!$E$7:$SJ$7,"Approved") -> 0 | T2: =SUMIFS('PCO Log'!$E12:$SJ12,'PCO Log'!$E$9:$SJ$9,'Graph Data'!T$1,'PCO Log'!$E$7:$SJ$7,"Approved") -> 0 | U2: =SUMIFS('PCO Log'!$E12:$SJ12,'PCO Log'!$E$9:$SJ$9,'Graph Data'!U$1,'PCO Log'!$E$7:$SJ$7,"Approved") -> 0 | V2: =SUMIFS('PCO Log'!$E12:$SJ12,'PCO Log'!$E$9:$SJ$9,'Graph Data'!V$1,'PCO Log'!$E$7:$SJ$7,"Approved") -> 0 | W2: =SUMIFS('PCO Log'!$E12:$SJ12,'PCO Log'!$E$9:$SJ$9,'Graph Data'!W$1,'PCO Log'!$E$7:$SJ$7,"Approved") -> 0 | X2: =SUMIFS('PCO Log'!$E12:$SJ12,'PCO Log'!$E$9:$SJ$9,'Graph Data'!X$1,'PCO Log'!$E$7:$SJ$7,"Approved") -> 0 | ... BX2: =SUMIFS('PCO Log'!$E12:$SJ12,'PCO Log'!$E$9:$SJ$9,'Graph Data'!BX$1,'PCO Log'!$E$7:$SJ$7,"Approved") -> 0
A3: PCO 2 | B3: ='PCO Log'!F7 -> 0 | C3: ='PCO Log'!F4 -> 0 | D3: {=INDEX('PCO Log'!$E$5:$SJ$5, 1, ROWS('Graph Data'!$D$2:D3))} -> 0 | E3: ='PCO Log'!F8 -> 0 | F3: ='PCO Log'!F3 -> 0 | G3: ='PCO Log'!F10 -> 0 | H3: ='PCO Log'!F6 -> 0 | J3: Pay App 2 | K3: ='Pay App 2'!H33 -> 0 | L3: =IF(M3>0,'Pay App 2'!$G$149,0) -> 0 | M3: ='Pay App 2'!H149 -> 0 | O3: ='Pay App 1'!B58 -> 00 02 00 | P3: ='Pay App 1'!C58 -> Preconstruction Services | Q3: =SUMIFS('PCO Log'!$E13:$SJ13,'PCO Log'!$E$9:$SJ$9,'Graph Data'!Q$1,'PCO Log'!$E$7:$SJ$7,"Approved") -> 0 | R3: =SUMIFS('PCO Log'!$E13:$SJ13,'PCO Log'!$E$9:$SJ$9,'Graph Data'!R$1,'PCO Log'!$E$7:$SJ$7,"Approved") -> 0 | S3: =SUMIFS('PCO Log'!$E13:$SJ13,'PCO Log'!$E$9:$SJ$9,'Graph Data'!S$1,'PCO Log'!$E$7:$SJ$7,"Approved") -> 0 | T3: =SUMIFS('PCO Log'!$E13:$SJ13,'PCO Log'!$E$9:$SJ$9,'Graph Data'!T$1,'PCO Log'!$E$7:$SJ$7,"Approved") -> 0 | U3: =SUMIFS('PCO Log'!$E13:$SJ13,'PCO Log'!$E$9:$SJ$9,'Graph Data'!U$1,'PCO Log'!$E$7:$SJ$7,"Approved") -> 0 | V3: =SUMIFS('PCO Log'!$E13:$SJ13,'PCO Log'!$E$9:$SJ$9,'Graph Data'!V$1,'PCO Log'!$E$7:$SJ$7,"Approved") -> 0 | W3: =SUMIFS('PCO Log'!$E13:$SJ13,'PCO Log'!$E$9:$SJ$9,'Graph Data'!W$1,'PCO Log'!$E$7:$SJ$7,"Approved") -> 0 | X3: =SUMIFS('PCO Log'!$E13:$SJ13,'PCO Log'!$E$9:$SJ$9,'Graph Data'!X$1,'PCO Log'!$E$7:$SJ$7,"Approved") -> 0 | ... BX3: =SUMIFS('PCO Log'!$E13:$SJ13,'PCO Log'!$E$9:$SJ$9,'Graph Data'!BX$1,'PCO Log'!$E$7:$SJ$7,"Approved") -> 0
A4: PCO 3 | B4: ='PCO Log'!G7 -> 0 | C4: ='PCO Log'!G4 -> 0 | D4: {=INDEX('PCO Log'!$E$5:$SJ$5, 1, ROWS('Graph Data'!$D$2:D4))} -> 0 | E4: ='PCO Log'!G8 -> 0 | F4: ='PCO Log'!G3 -> 0 | G4: ='PCO Log'!G10 -> 0 | H4: ='PCO Log'!G6 -> 0 | J4: Pay App 3 | K4: ='Pay App 3'!H33 -> 0 | L4: =IF(M4>0,'Pay App 3'!$G$149,0) -> 0 | M4: ='Pay App 3'!H149 -> 0 | O4: ='Pay App 1'!B59 -> 01 00 00 | P4: ='Pay App 1'!C59 -> General Conditions/Requirements | Q4: =SUMIFS('PCO Log'!$E14:$SJ14,'PCO Log'!$E$9:$SJ$9,'Graph Data'!Q$1,'PCO Log'!$E$7:$SJ$7,"Approved") -> 0 | R4: =SUMIFS('PCO Log'!$E14:$SJ14,'PCO Log'!$E$9:$SJ$9,'Graph Data'!R$1,'PCO Log'!$E$7:$SJ$7,"Approved") -> 0 | S4: =SUMIFS('PCO Log'!$E14:$SJ14,'PCO Log'!$E$9:$SJ$9,'Graph Data'!S$1,'PCO Log'!$E$7:$SJ$7,"Approved") -> 0 | T4: =SUMIFS('PCO Log'!$E14:$SJ14,'PCO Log'!$E$9:$SJ$9,'Graph Data'!T$1,'PCO Log'!$E$7:$SJ$7,"Approved") -> 0 | U4: =SUMIFS('PCO Log'!$E14:$SJ14,'PCO Log'!$E$9:$SJ$9,'Graph Data'!U$1,'PCO Log'!$E$7:$SJ$7,"Approved") -> 0 | V4: =SUMIFS('PCO Log'!$E14:$SJ14,'PCO Log'!$E$9:$SJ$9,'Graph Data'!V$1,'PCO Log'!$E$7:$SJ$7,"Approved") -> 0 | W4: =SUMIFS('PCO Log'!$E14:$SJ14,'PCO Log'!$E$9:$SJ$9,'Graph Data'!W$1,'PCO Log'!$E$7:$SJ$7,"Approved") -> 0 | X4: =SUMIFS('PCO Log'!$E14:$SJ14,'PCO Log'!$E$9:$SJ$9,'Graph Data'!X$1,'PCO Log'!$E$7:$SJ$7,"Approved") -> 0 | ... BX4: =SUMIFS('PCO Log'!$E14:$SJ14,'PCO Log'!$E$9:$SJ$9,'Graph Data'!BX$1,'PCO Log'!$E$7:$SJ$7,"Approved") -> 0
A5: PCO 4 | B5: ='PCO Log'!H7 -> 0 | C5: ='PCO Log'!H4 -> 0 | D5: {=INDEX('PCO Log'!$E$5:$SJ$5, 1, ROWS('Graph Data'!$D$2:D5))} -> 0 | E5: ='PCO Log'!H8 -> 0 | F5: ='PCO Log'!H3 -> 0 | G5: ='PCO Log'!H10 -> 0 | H5: ='PCO Log'!H6 -> 0 | J5: Pay App 4 | K5: ='Pay App 4'!H33 -> 0 | L5: =IF(M5>0,'Pay App 4'!$G$149,0) -> 0 | M5: ='Pay App 4'!H149 -> 0 | O5: ='Pay App 1'!B60 -> 01 13 41 | P5: ='Pay App 1'!C60 -> Temp. Scaffolding and Platforms | Q5: =SUMIFS('PCO Log'!$E15:$SJ15,'PCO Log'!$E$9:$SJ$9,'Graph Data'!Q$1,'PCO Log'!$E$7:$SJ$7,"Approved") -> 0 | R5: =SUMIFS('PCO Log'!$E15:$SJ15,'PCO Log'!$E$9:$SJ$9,'Graph Data'!R$1,'PCO Log'!$E$7:$SJ$7,"Approved") -> 0 | S5: =SUMIFS('PCO Log'!$E15:$SJ15,'PCO Log'!$E$9:$SJ$9,'Graph Data'!S$1,'PCO Log'!$E$7:$SJ$7,"Approved") -> 0 | T5: =SUMIFS('PCO Log'!$E15:$SJ15,'PCO Log'!$E$9:$SJ$9,'Graph Data'!T$1,'PCO Log'!$E$7:$SJ$7,"Approved") -> 0 | U5: =SUMIFS('PCO Log'!$E15:$SJ15,'PCO Log'!$E$9:$SJ$9,'Graph Data'!U$1,'PCO Log'!$E$7:$SJ$7,"Approved") -> 0 | V5: =SUMIFS('PCO Log'!$E15:$SJ15,'PCO Log'!$E$9:$SJ$9,'Graph Data'!V$1,'PCO Log'!$E$7:$SJ$7,"Approved") -> 0 | W5: =SUMIFS('PCO Log'!$E15:$SJ15,'PCO Log'!$E$9:$SJ$9,'Graph Data'!W$1,'PCO Log'!$E$7:$SJ$7,"Approved") -> 0 | X5: =SUMIFS('PCO Log'!$E15:$SJ15,'PCO Log'!$E$9:$SJ$9,'Graph Data'!X$1,'PCO Log'!$E$7:$SJ$7,"Approved") -> 0 | ... BX5: =SUMIFS('PCO Log'!$E15:$SJ15,'PCO Log'!$E$9:$SJ$9,'Graph Data'!BX$1,'PCO Log'!$E$7:$SJ$7,"Approved") -> 0
A6: PCO 5 | B6: ='PCO Log'!I7 -> 0 | C6: ='PCO Log'!I4 -> 0 | D6: {=INDEX('PCO Log'!$E$5:$SJ$5, 1, ROWS('Graph Data'!$D$2:D6))} -> 0 | E6: ='PCO Log'!I8 -> 0 | F6: ='PCO Log'!I3 -> 0 | G6: ='PCO Log'!I10 -> 0 | H6: ='PCO Log'!I6 -> 0 | J6: Pay App 5 | K6: ='Pay App 5'!H33 -> 0 | L6: =IF(M6>0,'Pay App 5'!$G$149,0) -> 0 | M6: ='Pay App 5'!H149 -> 0 | O6: ='Pay App 1'!B61 -> 01 13 60 | P6: ='Pay App 1'!C61 -> SWPPP | Q6: =SUMIFS('PCO Log'!$E16:$SJ16,'PCO Log'!$E$9:$SJ$9,'Graph Data'!Q$1,'PCO Log'!$E$7:$SJ$7,"Approved") -> 0 | R6: =SUMIFS('PCO Log'!$E16:$SJ16,'PCO Log'!$E$9:$SJ$9,'Graph Data'!R$1,'PCO Log'!$E$7:$SJ$7,"Approved") -> 0 | S6: =SUMIFS('PCO Log'!$E16:$SJ16,'PCO Log'!$E$9:$SJ$9,'Graph Data'!S$1,'PCO Log'!$E$7:$SJ$7,"Approved") -> 0 | T6: =SUMIFS('PCO Log'!$E16:$SJ16,'PCO Log'!$E$9:$SJ$9,'Graph Data'!T$1,'PCO Log'!$E$7:$SJ$7,"Approved") -> 0 | U6: =SUMIFS('PCO Log'!$E16:$SJ16,'PCO Log'!$E$9:$SJ$9,'Graph Data'!U$1,'PCO Log'!$E$7:$SJ$7,"Approved") -> 0 | V6: =SUMIFS('PCO Log'!$E16:$SJ16,'PCO Log'!$E$9:$SJ$9,'Graph Data'!V$1,'PCO Log'!$E$7:$SJ$7,"Approved") -> 0 | W6: =SUMIFS('PCO Log'!$E16:$SJ16,'PCO Log'!$E$9:$SJ$9,'Graph Data'!W$1,'PCO Log'!$E$7:$SJ$7,"Approved") -> 0 | X6: =SUMIFS('PCO Log'!$E16:$SJ16,'PCO Log'!$E$9:$SJ$9,'Graph Data'!X$1,'PCO Log'!$E$7:$SJ$7,"Approved") -> 0 | ... BX6: =SUMIFS('PCO Log'!$E16:$SJ16,'PCO Log'!$E$9:$SJ$9,'Graph Data'!BX$1,'PCO Log'!$E$7:$SJ$7,"Approved") -> 0
A7: PCO 6 | B7: ='PCO Log'!J7 -> 0 | C7: ='PCO Log'!J4 -> 0 | D7: {=INDEX('PCO Log'!$E$5:$SJ$5, 1, ROWS('Graph Data'!$D$2:D7))} -> 0 | E7: ='PCO Log'!J8 -> 0 | F7: ='PCO Log'!J3 -> 0 | G7: ='PCO Log'!J10 -> 0 | H7: ='PCO Log'!J6 -> 0 | J7: Pay App 6 | K7: ='Pay App 6'!H33 -> 0 | L7: =IF(M7>0,'Pay App 6'!$G$149,0) -> 0 | M7: ='Pay App 6'!H149 -> 0 | O7: ='Pay App 1'!B62 -> 01 19 70 | P7: ='Pay App 1'!C62 -> Construction Cranes and Hoists | Q7: =SUMIFS('PCO Log'!$E17:$SJ17,'PCO Log'!$E$9:$SJ$9,'Graph Data'!Q$1,'PCO Log'!$E$7:$SJ$7,"Approved") -> 0 | R7: =SUMIFS('PCO Log'!$E17:$SJ17,'PCO Log'!$E$9:$SJ$9,'Graph Data'!R$1,'PCO Log'!$E$7:$SJ$7,"Approved") -> 0 | S7: =SUMIFS('PCO Log'!$E17:$SJ17,'PCO Log'!$E$9:$SJ$9,'Graph Data'!S$1,'PCO Log'!$E$7:$SJ$7,"Approved") -> 0 | T7: =SUMIFS('PCO Log'!$E17:$SJ17,'PCO Log'!$E$9:$SJ$9,'Graph Data'!T$1,'PCO Log'!$E$7:$SJ$7,"Approved") -> 0 | U7: =SUMIFS('PCO Log'!$E17:$SJ17,'PCO Log'!$E$9:$SJ$9,'Graph Data'!U$1,'PCO Log'!$E$7:$SJ$7,"Approved") -> 0 | V7: =SUMIFS('PCO Log'!$E17:$SJ17,'PCO Log'!$E$9:$SJ$9,'Graph Data'!V$1,'PCO Log'!$E$7:$SJ$7,"Approved") -> 0 | W7: =SUMIFS('PCO Log'!$E17:$SJ17,'PCO Log'!$E$9:$SJ$9,'Graph Data'!W$1,'PCO Log'!$E$7:$SJ$7,"Approved") -> 0 | X7: =SUMIFS('PCO Log'!$E17:$SJ17,'PCO Log'!$E$9:$SJ$9,'Graph Data'!X$1,'PCO Log'!$E$7:$SJ$7,"Approved") -> 0 | ... BX7: =SUMIFS('PCO Log'!$E17:$SJ17,'PCO Log'!$E$9:$SJ$9,'Graph Data'!BX$1,'PCO Log'!$E$7:$SJ$7,"Approved") -> 0
A8: PCO 7 | B8: ='PCO Log'!K7 -> 0 | C8: ='PCO Log'!K4 -> 0 | D8: {=INDEX('PCO Log'!$E$5:$SJ$5, 1, ROWS('Graph Data'!$D$2:D8))} -> 0 | E8: ='PCO Log'!K8 -> 0 | F8: ='PCO Log'!K3 -> 0 | G8: ='PCO Log'!K10 -> 0 | H8: ='PCO Log'!K6 -> 0 | J8: Pay App 7 | K8: ='Pay App 7'!H33 -> 0 | L8: =IF(M8>0,'Pay App 7'!$G$149,0) -> 0 | M8: ='Pay App 7'!H149 -> 0 | O8: ='Pay App 1'!B63 -> 01 31 00 | P8: ='Pay App 1'!C63 -> Contractor's Supervision | Q8: =SUMIFS('PCO Log'!$E18:$SJ18,'PCO Log'!$E$9:$SJ$9,'Graph Data'!Q$1,'PCO Log'!$E$7:$SJ$7,"Approved") -> 0 | R8: =SUMIFS('PCO Log'!$E18:$SJ18,'PCO Log'!$E$9:$SJ$9,'Graph Data'!R$1,'PCO Log'!$E$7:$SJ$7,"Approved") -> 0 | S8: =SUMIFS('PCO Log'!$E18:$SJ18,'PCO Log'!$E$9:$SJ$9,'Graph Data'!S$1,'PCO Log'!$E$7:$SJ$7,"Approved") -> 0 | T8: =SUMIFS('PCO Log'!$E18:$SJ18,'PCO Log'!$E$9:$SJ$9,'Graph Data'!T$1,'PCO Log'!$E$7:$SJ$7,"Approved") -> 0 | U8: =SUMIFS('PCO Log'!$E18:$SJ18,'PCO Log'!$E$9:$SJ$9,'Graph Data'!U$1,'PCO Log'!$E$7:$SJ$7,"Approved") -> 0 | V8: =SUMIFS('PCO Log'!$E18:$SJ18,'PCO Log'!$E$9:$SJ$9,'Graph Data'!V$1,'PCO Log'!$E$7:$SJ$7,"Approved") -> 0 | W8: =SUMIFS('PCO Log'!$E18:$SJ18,'PCO Log'!$E$9:$SJ$9,'Graph Data'!W$1,'PCO Log'!$E$7:$SJ$7,"Approved") -> 0 | X8: =SUMIFS('PCO Log'!$E18:$SJ18,'PCO Log'!$E$9:$SJ$9,'Graph Data'!X$1,'PCO Log'!$E$7:$SJ$7,"Approved") -> 0 | ... BX8: =SUMIFS('PCO Log'!$E18:$SJ18,'PCO Log'!$E$9:$SJ$9,'Graph Data'!BX$1,'PCO Log'!$E$7:$SJ$7,"Approved") -> 0
A9: PCO 8 | B9: ='PCO Log'!L7 -> 0 | C9: ='PCO Log'!L4 -> 0 | D9: {=INDEX('PCO Log'!$E$5:$SJ$5, 1, ROWS('Graph Data'!$D$2:D9))} -> 0 | E9: ='PCO Log'!L8 -> 0 | F9: ='PCO Log'!L3 -> 0 | G9: ='PCO Log'!L10 -> 0 | H9: ='PCO Log'!L6 -> 0 | J9: Pay App 8 | K9: ='Pay App 8'!H33 -> 0 | L9: =IF(M9>0,'Pay App 8'!$G$149,0) -> 0 | M9: ='Pay App 8'!H149 -> 0 | O9: ='Pay App 1'!B64 -> 01 32 00 | P9: ='Pay App 1'!C64 -> General Liability Insurance | Q9: =SUMIFS('PCO Log'!$E19:$SJ19,'PCO Log'!$E$9:$SJ$9,'Graph Data'!Q$1,'PCO Log'!$E$7:$SJ$7,"Approved") -> 0 | R9: =SUMIFS('PCO Log'!$E19:$SJ19,'PCO Log'!$E$9:$SJ$9,'Graph Data'!R$1,'PCO Log'!$E$7:$SJ$7,"Approved") -> 0 | S9: =SUMIFS('PCO Log'!$E19:$SJ19,'PCO Log'!$E$9:$SJ$9,'Graph Data'!S$1,'PCO Log'!$E$7:$SJ$7,"Approved") -> 0 | T9: =SUMIFS('PCO Log'!$E19:$SJ19,'PCO Log'!$E$9:$SJ$9,'Graph Data'!T$1,'PCO Log'!$E$7:$SJ$7,"Approved") -> 0 | U9: =SUMIFS('PCO Log'!$E19:$SJ19,'PCO Log'!$E$9:$SJ$9,'Graph Data'!U$1,'PCO Log'!$E$7:$SJ$7,"Approved") -> 0 | V9: =SUMIFS('PCO Log'!$E19:$SJ19,'PCO Log'!$E$9:$SJ$9,'Graph Data'!V$1,'PCO Log'!$E$7:$SJ$7,"Approved") -> 0 | W9: =SUMIFS('PCO Log'!$E19:$SJ19,'PCO Log'!$E$9:$SJ$9,'Graph Data'!W$1,'PCO Log'!$E$7:$SJ$7,"Approved") -> 0 | X9: =SUMIFS('PCO Log'!$E19:$SJ19,'PCO Log'!$E$9:$SJ$9,'Graph Data'!X$1,'PCO Log'!$E$7:$SJ$7,"Approved") -> 0 | ... BX9: =SUMIFS('PCO Log'!$E19:$SJ19,'PCO Log'!$E$9:$SJ$9,'Graph Data'!BX$1,'PCO Log'!$E$7:$SJ$7,"Approved") -> 0
A10: PCO 9 | B10: ='PCO Log'!M7 -> 0 | C10: ='PCO Log'!M4 -> 0 | D10: {=INDEX('PCO Log'!$E$5:$SJ$5, 1, ROWS('Graph Data'!$D$2:D10))} -> 0 | E10: ='PCO Log'!M8 -> 0 | F10: ='PCO Log'!M3 -> 0 | G10: ='PCO Log'!M10 -> 0 | H10: ='PCO Log'!M6 -> 0 | J10: Pay App 9 | K10: ='Pay App 9'!H33 -> 0 | L10: =IF(M10>0,'Pay App 9'!$G$149,0) -> 0 | M10: ='Pay App 9'!H149 -> 0 | O10: ='Pay App 1'!B65 -> 01 33 00 | P10: ='Pay App 1'!C65 -> Performance & Payment Bond | Q10: =SUMIFS('PCO Log'!$E20:$SJ20,'PCO Log'!$E$9:$SJ$9,'Graph Data'!Q$1,'PCO Log'!$E$7:$SJ$7,"Approved") -> 0 | R10: =SUMIFS('PCO Log'!$E20:$SJ20,'PCO Log'!$E$9:$SJ$9,'Graph Data'!R$1,'PCO Log'!$E$7:$SJ$7,"Approved") -> 0 | S10: =SUMIFS('PCO Log'!$E20:$SJ20,'PCO Log'!$E$9:$SJ$9,'Graph Data'!S$1,'PCO Log'!$E$7:$SJ$7,"Approved") -> 0 | T10: =SUMIFS('PCO Log'!$E20:$SJ20,'PCO Log'!$E$9:$SJ$9,'Graph Data'!T$1,'PCO Log'!$E$7:$SJ$7,"Approved") -> 0 | U10: =SUMIFS('PCO Log'!$E20:$SJ20,'PCO Log'!$E$9:$SJ$9,'Graph Data'!U$1,'PCO Log'!$E$7:$SJ$7,"Approved") -> 0 | V10: =SUMIFS('PCO Log'!$E20:$SJ20,'PCO Log'!$E$9:$SJ$9,'Graph Data'!V$1,'PCO Log'!$E$7:$SJ$7,"Approved") -> 0 | W10: =SUMIFS('PCO Log'!$E20:$SJ20,'PCO Log'!$E$9:$SJ$9,'Graph Data'!W$1,'PCO Log'!$E$7:$SJ$7,"Approved") -> 0 | X10: =SUMIFS('PCO Log'!$E20:$SJ20,'PCO Log'!$E$9:$SJ$9,'Graph Data'!X$1,'PCO Log'!$E$7:$SJ$7,"Approved") -> 0 | ... BX10: =SUMIFS('PCO Log'!$E20:$SJ20,'PCO Log'!$E$9:$SJ$9,'Graph Data'!BX$1,'PCO Log'!$E$7:$SJ$7,"Approved") -> 0
A11: PCO 10 | B11: ='PCO Log'!N7 -> 0 | C11: ='PCO Log'!N4 -> 0 | D11: {=INDEX('PCO Log'!$E$5:$SJ$5, 1, ROWS('Graph Data'!$D$2:D11))} -> 0 | E11: ='PCO Log'!N8 -> 0 | F11: ='PCO Log'!N3 -> 0 | G11: ='PCO Log'!N10 -> 0 | H11: ='PCO Log'!N6 -> 0 | J11: Pay App 10 | K11: ='Pay App 10'!H33 -> 0 | L11: =IF(M11>0,'Pay App 10'!$G$149,0) -> 0 | M11: ='Pay App 10'!H149 -> 0 | O11: ='Pay App 1'!B66 -> 01 34 00 | P11: ='Pay App 1'!C66 -> Subcontractor Default Insurance | Q11: =SUMIFS('PCO Log'!$E21:$SJ21,'PCO Log'!$E$9:$SJ$9,'Graph Data'!Q$1,'PCO Log'!$E$7:$SJ$7,"Approved") -> 0 | R11: =SUMIFS('PCO Log'!$E21:$SJ21,'PCO Log'!$E$9:$SJ$9,'Graph Data'!R$1,'PCO Log'!$E$7:$SJ$7,"Approved") -> 0 | S11: =SUMIFS('PCO Log'!$E21:$SJ21,'PCO Log'!$E$9:$SJ$9,'Graph Data'!S$1,'PCO Log'!$E$7:$SJ$7,"Approved") -> 0 | T11: =SUMIFS('PCO Log'!$E21:$SJ21,'PCO Log'!$E$9:$SJ$9,'Graph Data'!T$1,'PCO Log'!$E$7:$SJ$7,"Approved") -> 0 | U11: =SUMIFS('PCO Log'!$E21:$SJ21,'PCO Log'!$E$9:$SJ$9,'Graph Data'!U$1,'PCO Log'!$E$7:$SJ$7,"Approved") -> 0 | V11: =SUMIFS('PCO Log'!$E21:$SJ21,'PCO Log'!$E$9:$SJ$9,'Graph Data'!V$1,'PCO Log'!$E$7:$SJ$7,"Approved") -> 0 | W11: =SUMIFS('PCO Log'!$E21:$SJ21,'PCO Log'!$E$9:$SJ$9,'Graph Data'!W$1,'PCO Log'!$E$7:$SJ$7,"Approved") -> 0 | X11: =SUMIFS('PCO Log'!$E21:$SJ21,'PCO Log'!$E$9:$SJ$9,'Graph Data'!X$1,'PCO Log'!$E$7:$SJ$7,"Approved") -> 0 | ... BX11: =SUMIFS('PCO Log'!$E21:$SJ21,'PCO Log'!$E$9:$SJ$9,'Graph Data'!BX$1,'PCO Log'!$E$7:$SJ$7,"Approved") -> 0
A12: PCO 11 | B12: ='PCO Log'!O7 -> 0 | C12: ='PCO Log'!O4 -> 0 | D12: {=INDEX('PCO Log'!$E$5:$SJ$5, 1, ROWS('Graph Data'!$D$2:D12))} -> 0 | E12: ='PCO Log'!O8 -> 0 | F12: ='PCO Log'!O3 -> 0 | G12: ='PCO Log'!O10 -> 0 | H12: ='PCO Log'!O6 -> 0 | J12: Pay App 11 | K12: ='Pay App 11'!H33 -> 0 | L12: =IF(M12>0,'Pay App 11'!$G$149,0) -> 0 | M12: ='Pay App 11'!H149 -> 0 | O12: ='Pay App 1'!B67 -> 01 35 00 | P12: ='Pay App 1'!C67 -> Construction Management Fee | Q12: =SUMIFS('PCO Log'!$E22:$SJ22,'PCO Log'!$E$9:$SJ$9,'Graph Data'!Q$1,'PCO Log'!$E$7:$SJ$7,"Approved") -> 0 | R12: =SUMIFS('PCO Log'!$E22:$SJ22,'PCO Log'!$E$9:$SJ$9,'Graph Data'!R$1,'PCO Log'!$E$7:$SJ$7,"Approved") -> 0 | S12: =SUMIFS('PCO Log'!$E22:$SJ22,'PCO Log'!$E$9:$SJ$9,'Graph Data'!S$1,'PCO Log'!$E$7:$SJ$7,"Approved") -> 0 | T12: =SUMIFS('PCO Log'!$E22:$SJ22,'PCO Log'!$E$9:$SJ$9,'Graph Data'!T$1,'PCO Log'!$E$7:$SJ$7,"Approved") -> 0 | U12: =SUMIFS('PCO Log'!$E22:$SJ22,'PCO Log'!$E$9:$SJ$9,'Graph Data'!U$1,'PCO Log'!$E$7:$SJ$7,"Approved") -> 0 | V12: =SUMIFS('PCO Log'!$E22:$SJ22,'PCO Log'!$E$9:$SJ$9,'Graph Data'!V$1,'PCO Log'!$E$7:$SJ$7,"Approved") -> 0 | W12: =SUMIFS('PCO Log'!$E22:$SJ22,'PCO Log'!$E$9:$SJ$9,'Graph Data'!W$1,'PCO Log'!$E$7:$SJ$7,"Approved") -> 0 | X12: =SUMIFS('PCO Log'!$E22:$SJ22,'PCO Log'!$E$9:$SJ$9,'Graph Data'!X$1,'PCO Log'!$E$7:$SJ$7,"Approved") -> 0 | ... BX12: =SUMIFS('PCO Log'!$E22:$SJ22,'PCO Log'!$E$9:$SJ$9,'Graph Data'!BX$1,'PCO Log'!$E$7:$SJ$7,"Approved") -> 0
A13: PCO 12 | B13: ='PCO Log'!P7 -> 0 | C13: ='PCO Log'!P4 -> 0 | D13: {=INDEX('PCO Log'!$E$5:$SJ$5, 1, ROWS('Graph Data'!$D$2:D13))} -> 0 | E13: ='PCO Log'!P8 -> 0 | F13: ='PCO Log'!P3 -> 0 | G13: ='PCO Log'!P10 -> 0 | H13: ='PCO Log'!P6 -> 0 | J13: Pay App 12 | K13: ='Pay App 12'!H33 -> 0 | L13: =IF(M13>0,'Pay App 12'!$G$149,0) -> 0 | M13: ='Pay App 12'!H149 -> 0 | O13: ='Pay App 1'!B68 -> 01 36 00 | P13: ='Pay App 1'!C68 -> Contingency | Q13: =SUMIFS('PCO Log'!$E23:$SJ23,'PCO Log'!$E$9:$SJ$9,'Graph Data'!Q$1,'PCO Log'!$E$7:$SJ$7,"Approved") -> 0 | R13: =SUMIFS('PCO Log'!$E23:$SJ23,'PCO Log'!$E$9:$SJ$9,'Graph Data'!R$1,'PCO Log'!$E$7:$SJ$7,"Approved") -> 0 | S13: =SUMIFS('PCO Log'!$E23:$SJ23,'PCO Log'!$E$9:$SJ$9,'Graph Data'!S$1,'PCO Log'!$E$7:$SJ$7,"Approved") -> 0 | T13: =SUMIFS('PCO Log'!$E23:$SJ23,'PCO Log'!$E$9:$SJ$9,'Graph Data'!T$1,'PCO Log'!$E$7:$SJ$7,"Approved") -> 0 | U13: =SUMIFS('PCO Log'!$E23:$SJ23,'PCO Log'!$E$9:$SJ$9,'Graph Data'!U$1,'PCO Log'!$E$7:$SJ$7,"Approved") -> 0 | V13: =SUMIFS('PCO Log'!$E23:$SJ23,'PCO Log'!$E$9:$SJ$9,'Graph Data'!V$1,'PCO Log'!$E$7:$SJ$7,"Approved") -> 0 | W13: =SUMIFS('PCO Log'!$E23:$SJ23,'PCO Log'!$E$9:$SJ$9,'Graph Data'!W$1,'PCO Log'!$E$7:$SJ$7,"Approved") -> 0 | X13: =SUMIFS('PCO Log'!$E23:$SJ23,'PCO Log'!$E$9:$SJ$9,'Graph Data'!X$1,'PCO Log'!$E$7:$SJ$7,"Approved") -> 0 | ... BX13: =SUMIFS('PCO Log'!$E23:$SJ23,'PCO Log'!$E$9:$SJ$9,'Graph Data'!BX$1,'PCO Log'!$E$7:$SJ$7,"Approved") -> 0
A14: PCO 13 | B14: ='PCO Log'!Q7 -> 0 | C14: ='PCO Log'!Q4 -> 0 | D14: {=INDEX('PCO Log'!$E$5:$SJ$5, 1, ROWS('Graph Data'!$D$2:D14))} -> 0 | E14: ='PCO Log'!Q8 -> 0 | F14: ='PCO Log'!Q3 -> 0 | G14: ='PCO Log'!Q10 -> 0 | H14: ='PCO Log'!Q6 -> 0 | J14: Pay App 13 | K14: ='Pay App 13'!H33 -> 0 | L14: =IF(M14>0,'Pay App 13'!$G$149,0) -> 0 | M14: ='Pay App 13'!H149 -> 0 | O14: ='Pay App 1'!B69 -> 01 37 00 | P14: ='Pay App 1'!C69 -> Weather Allowance (All Trades) | Q14: =SUMIFS('PCO Log'!$E24:$SJ24,'PCO Log'!$E$9:$SJ$9,'Graph Data'!Q$1,'PCO Log'!$E$7:$SJ$7,"Approved") -> 0 | R14: =SUMIFS('PCO Log'!$E24:$SJ24,'PCO Log'!$E$9:$SJ$9,'Graph Data'!R$1,'PCO Log'!$E$7:$SJ$7,"Approved") -> 0 | S14: =SUMIFS('PCO Log'!$E24:$SJ24,'PCO Log'!$E$9:$SJ$9,'Graph Data'!S$1,'PCO Log'!$E$7:$SJ$7,"Approved") -> 0 | T14: =SUMIFS('PCO Log'!$E24:$SJ24,'PCO Log'!$E$9:$SJ$9,'Graph Data'!T$1,'PCO Log'!$E$7:$SJ$7,"Approved") -> 0 | U14: =SUMIFS('PCO Log'!$E24:$SJ24,'PCO Log'!$E$9:$SJ$9,'Graph Data'!U$1,'PCO Log'!$E$7:$SJ$7,"Approved") -> 0 | V14: =SUMIFS('PCO Log'!$E24:$SJ24,'PCO Log'!$E$9:$SJ$9,'Graph Data'!V$1,'PCO Log'!$E$7:$SJ$7,"Approved") -> 0 | W14: =SUMIFS('PCO Log'!$E24:$SJ24,'PCO Log'!$E$9:$SJ$9,'Graph Data'!W$1,'PCO Log'!$E$7:$SJ$7,"Approved") -> 0 | X14: =SUMIFS('PCO Log'!$E24:$SJ24,'PCO Log'!$E$9:$SJ$9,'Graph Data'!X$1,'PCO Log'!$E$7:$SJ$7,"Approved") -> 0 | ... BX14: =SUMIFS('PCO Log'!$E24:$SJ24,'PCO Log'!$E$9:$SJ$9,'Graph Data'!BX$1,'PCO Log'!$E$7:$SJ$7,"Approved") -> 0
A15: PCO 14 | B15: ='PCO Log'!R7 -> 0 | C15: ='PCO Log'!R4 -> 0 | D15: {=INDEX('PCO Log'!$E$5:$SJ$5, 1, ROWS('Graph Data'!$D$2:D15))} -> 0 | E15: ='PCO Log'!R8 -> 0 | F15: ='PCO Log'!R3 -> 0 | G15: ='PCO Log'!R10 -> 0 | H15: ='PCO Log'!R6 -> 0 | J15: Pay App 14 | K15: ='Pay App 14'!H33 -> 0 | L15: =IF(M15>0,'Pay App 14'!$G$149,0) -> 0 | M15: ='Pay App 14'!H149 -> 0 | O15: ='Pay App 1'!B70 -> 01 74 23 | P15: ='Pay App 1'!C70 -> Cleaning (Final) | Q15: =SUMIFS('PCO Log'!$E25:$SJ25,'PCO Log'!$E$9:$SJ$9,'Graph Data'!Q$1,'PCO Log'!$E$7:$SJ$7,"Approved") -> 0 | R15: =SUMIFS('PCO Log'!$E25:$SJ25,'PCO Log'!$E$9:$SJ$9,'Graph Data'!R$1,'PCO Log'!$E$7:$SJ$7,"Approved") -> 0 | S15: =SUMIFS('PCO Log'!$E25:$SJ25,'PCO Log'!$E$9:$SJ$9,'Graph Data'!S$1,'PCO Log'!$E$7:$SJ$7,"Approved") -> 0 | T15: =SUMIFS('PCO Log'!$E25:$SJ25,'PCO Log'!$E$9:$SJ$9,'Graph Data'!T$1,'PCO Log'!$E$7:$SJ$7,"Approved") -> 0 | U15: =SUMIFS('PCO Log'!$E25:$SJ25,'PCO Log'!$E$9:$SJ$9,'Graph Data'!U$1,'PCO Log'!$E$7:$SJ$7,"Approved") -> 0 | V15: =SUMIFS('PCO Log'!$E25:$SJ25,'PCO Log'!$E$9:$SJ$9,'Graph Data'!V$1,'PCO Log'!$E$7:$SJ$7,"Approved") -> 0 | W15: =SUMIFS('PCO Log'!$E25:$SJ25,'PCO Log'!$E$9:$SJ$9,'Graph Data'!W$1,'PCO Log'!$E$7:$SJ$7,"Approved") -> 0 | X15: =SUMIFS('PCO Log'!$E25:$SJ25,'PCO Log'!$E$9:$SJ$9,'Graph Data'!X$1,'PCO Log'!$E$7:$SJ$7,"Approved") -> 0 | ... BX15: =SUMIFS('PCO Log'!$E25:$SJ25,'PCO Log'!$E$9:$SJ$9,'Graph Data'!BX$1,'PCO Log'!$E$7:$SJ$7,"Approved") -> 0
A16: PCO 15 | B16: ='PCO Log'!S7 -> 0 | C16: ='PCO Log'!S4 -> 0 | D16: {=INDEX('PCO Log'!$E$5:$SJ$5, 1, ROWS('Graph Data'!$D$2:D16))} -> 0 | E16: ='PCO Log'!S8 -> 0 | F16: ='PCO Log'!S3 -> 0 | G16: ='PCO Log'!S10 -> 0 | H16: ='PCO Log'!S6 -> 0 | J16: Pay App 15 | K16: ='Pay App 15'!H33 -> 0 | L16: =IF(M16>0,'Pay App 15'!$G$149,0) -> 0 | M16: ='Pay App 15'!H149 -> 0 | O16: ='Pay App 1'!B71 -> 02 21 00 | P16: ='Pay App 1'!C71 -> Survey/Engineering | Q16: =SUMIFS('PCO Log'!$E26:$SJ26,'PCO Log'!$E$9:$SJ$9,'Graph Data'!Q$1,'PCO Log'!$E$7:$SJ$7,"Approved") -> 0 | R16: =SUMIFS('PCO Log'!$E26:$SJ26,'PCO Log'!$E$9:$SJ$9,'Graph Data'!R$1,'PCO Log'!$E$7:$SJ$7,"Approved") -> 0 | S16: =SUMIFS('PCO Log'!$E26:$SJ26,'PCO Log'!$E$9:$SJ$9,'Graph Data'!S$1,'PCO Log'!$E$7:$SJ$7,"Approved") -> 0 | T16: =SUMIFS('PCO Log'!$E26:$SJ26,'PCO Log'!$E$9:$SJ$9,'Graph Data'!T$1,'PCO Log'!$E$7:$SJ$7,"Approved") -> 0 | U16: =SUMIFS('PCO Log'!$E26:$SJ26,'PCO Log'!$E$9:$SJ$9,'Graph Data'!U$1,'PCO Log'!$E$7:$SJ$7,"Approved") -> 0 | V16: =SUMIFS('PCO Log'!$E26:$SJ26,'PCO Log'!$E$9:$SJ$9,'Graph Data'!V$1,'PCO Log'!$E$7:$SJ$7,"Approved") -> 0 | W16: =SUMIFS('PCO Log'!$E26:$SJ26,'PCO Log'!$E$9:$SJ$9,'Graph Data'!W$1,'PCO Log'!$E$7:$SJ$7,"Approved") -> 0 | X16: =SUMIFS('PCO Log'!$E26:$SJ26,'PCO Log'!$E$9:$SJ$9,'Graph Data'!X$1,'PCO Log'!$E$7:$SJ$7,"Approved") -> 0 | ... BX16: =SUMIFS('PCO Log'!$E26:$SJ26,'PCO Log'!$E$9:$SJ$9,'Graph Data'!BX$1,'PCO Log'!$E$7:$SJ$7,"Approved") -> 0
A17: PCO 16 | B17: ='PCO Log'!T7 -> 0 | C17: ='PCO Log'!T4 -> 0 | D17: {=INDEX('PCO Log'!$E$5:$SJ$5, 1, ROWS('Graph Data'!$D$2:D17))} -> 0 | E17: ='PCO Log'!T8 -> 0 | F17: ='PCO Log'!T3 -> 0 | G17: ='PCO Log'!T10 -> 0 | H17: ='PCO Log'!T6 -> 0 | J17: Pay App 16 | K17: ='Pay App 16'!H33 -> 0 | L17: =IF(M17>0,'Pay App 16'!$G$149,0) -> 0 | M17: ='Pay App 16'!H149 -> 0 | O17: ='Pay App 1'!B72 -> 02 41 00 | P17: ='Pay App 1'!C72 -> Demolition | Q17: =SUMIFS('PCO Log'!$E27:$SJ27,'PCO Log'!$E$9:$SJ$9,'Graph Data'!Q$1,'PCO Log'!$E$7:$SJ$7,"Approved") -> 0 | R17: =SUMIFS('PCO Log'!$E27:$SJ27,'PCO Log'!$E$9:$SJ$9,'Graph Data'!R$1,'PCO Log'!$E$7:$SJ$7,"Approved") -> 0 | S17: =SUMIFS('PCO Log'!$E27:$SJ27,'PCO Log'!$E$9:$SJ$9,'Graph Data'!S$1,'PCO Log'!$E$7:$SJ$7,"Approved") -> 0 | T17: =SUMIFS('PCO Log'!$E27:$SJ27,'PCO Log'!$E$9:$SJ$9,'Graph Data'!T$1,'PCO Log'!$E$7:$SJ$7,"Approved") -> 0 | U17: =SUMIFS('PCO Log'!$E27:$SJ27,'PCO Log'!$E$9:$SJ$9,'Graph Data'!U$1,'PCO Log'!$E$7:$SJ$7,"Approved") -> 0 | V17: =SUMIFS('PCO Log'!$E27:$SJ27,'PCO Log'!$E$9:$SJ$9,'Graph Data'!V$1,'PCO Log'!$E$7:$SJ$7,"Approved") -> 0 | W17: =SUMIFS('PCO Log'!$E27:$SJ27,'PCO Log'!$E$9:$SJ$9,'Graph Data'!W$1,'PCO Log'!$E$7:$SJ$7,"Approved") -> 0 | X17: =SUMIFS('PCO Log'!$E27:$SJ27,'PCO Log'!$E$9:$SJ$9,'Graph Data'!X$1,'PCO Log'!$E$7:$SJ$7,"Approved") -> 0 | ... BX17: =SUMIFS('PCO Log'!$E27:$SJ27,'PCO Log'!$E$9:$SJ$9,'Graph Data'!BX$1,'PCO Log'!$E$7:$SJ$7,"Approved") -> 0
A18: PCO 17 | B18: ='PCO Log'!U7 -> 0 | C18: ='PCO Log'!U4 -> 0 | D18: {=INDEX('PCO Log'!$E$5:$SJ$5, 1, ROWS('Graph Data'!$D$2:D18))} -> 0 | E18: ='PCO Log'!U8 -> 0 | F18: ='PCO Log'!U3 -> 0 | G18: ='PCO Log'!U10 -> 0 | H18: ='PCO Log'!U6 -> 0 | J18: Pay App 17 | K18: ='Pay App 17'!H33 -> 0 | L18: =IF(M18>0,'Pay App 17'!$G$149,0) -> 0 | M18: ='Pay App 17'!H149 -> 0 | O18: ='Pay App 1'!B73 -> 02 82 00 | P18: ='Pay App 1'!C73 -> Asbestos Abatement | Q18: =SUMIFS('PCO Log'!$E28:$SJ28,'PCO Log'!$E$9:$SJ$9,'Graph Data'!Q$1,'PCO Log'!$E$7:$SJ$7,"Approved") -> 0 | R18: =SUMIFS('PCO Log'!$E28:$SJ28,'PCO Log'!$E$9:$SJ$9,'Graph Data'!R$1,'PCO Log'!$E$7:$SJ$7,"Approved") -> 0 | S18: =SUMIFS('PCO Log'!$E28:$SJ28,'PCO Log'!$E$9:$SJ$9,'Graph Data'!S$1,'PCO Log'!$E$7:$SJ$7,"Approved") -> 0 | T18: =SUMIFS('PCO Log'!$E28:$SJ28,'PCO Log'!$E$9:$SJ$9,'Graph Data'!T$1,'PCO Log'!$E$7:$SJ$7,"Approved") -> 0 | U18: =SUMIFS('PCO Log'!$E28:$SJ28,'PCO Log'!$E$9:$SJ$9,'Graph Data'!U$1,'PCO Log'!$E$7:$SJ$7,"Approved") -> 0 | V18: =SUMIFS('PCO Log'!$E28:$SJ28,'PCO Log'!$E$9:$SJ$9,'Graph Data'!V$1,'PCO Log'!$E$7:$SJ$7,"Approved") -> 0 | W18: =SUMIFS('PCO Log'!$E28:$SJ28,'PCO Log'!$E$9:$SJ$9,'Graph Data'!W$1,'PCO Log'!$E$7:$SJ$7,"Approved") -> 0 | X18: =SUMIFS('PCO Log'!$E28:$SJ28,'PCO Log'!$E$9:$SJ$9,'Graph Data'!X$1,'PCO Log'!$E$7:$SJ$7,"Approved") -> 0 | ... BX18: =SUMIFS('PCO Log'!$E28:$SJ28,'PCO Log'!$E$9:$SJ$9,'Graph Data'!BX$1,'PCO Log'!$E$7:$SJ$7,"Approved") -> 0
A19: PCO 18 | B19: ='PCO Log'!V7 -> 0 | C19: ='PCO Log'!V4 -> 0 | D19: {=INDEX('PCO Log'!$E$5:$SJ$5, 1, ROWS('Graph Data'!$D$2:D19))} -> 0 | E19: ='PCO Log'!V8 -> 0 | F19: ='PCO Log'!V3 -> 0 | G19: ='PCO Log'!V10 -> 0 | H19: ='PCO Log'!V6 -> 0 | J19: Pay App 18 | K19: ='Pay App 18'!H33 -> 0 | L19: =IF(M19>0,'Pay App 18'!$G$149,0) -> 0 | M19: ='Pay App 18'!H149 -> 0 | O19: ='Pay App 1'!B74 -> 03 00 00 | P19: ='Pay App 1'!C74 -> Building Concrete | Q19: =SUMIFS('PCO Log'!$E29:$SJ29,'PCO Log'!$E$9:$SJ$9,'Graph Data'!Q$1,'PCO Log'!$E$7:$SJ$7,"Approved") -> 0 | R19: =SUMIFS('PCO Log'!$E29:$SJ29,'PCO Log'!$E$9:$SJ$9,'Graph Data'!R$1,'PCO Log'!$E$7:$SJ$7,"Approved") -> 0 | S19: =SUMIFS('PCO Log'!$E29:$SJ29,'PCO Log'!$E$9:$SJ$9,'Graph Data'!S$1,'PCO Log'!$E$7:$SJ$7,"Approved") -> 0 | T19: =SUMIFS('PCO Log'!$E29:$SJ29,'PCO Log'!$E$9:$SJ$9,'Graph Data'!T$1,'PCO Log'!$E$7:$SJ$7,"Approved") -> 0 | U19: =SUMIFS('PCO Log'!$E29:$SJ29,'PCO Log'!$E$9:$SJ$9,'Graph Data'!U$1,'PCO Log'!$E$7:$SJ$7,"Approved") -> 0 | V19: =SUMIFS('PCO Log'!$E29:$SJ29,'PCO Log'!$E$9:$SJ$9,'Graph Data'!V$1,'PCO Log'!$E$7:$SJ$7,"Approved") -> 0 | W19: =SUMIFS('PCO Log'!$E29:$SJ29,'PCO Log'!$E$9:$SJ$9,'Graph Data'!W$1,'PCO Log'!$E$7:$SJ$7,"Approved") -> 0 | X19: =SUMIFS('PCO Log'!$E29:$SJ29,'PCO Log'!$E$9:$SJ$9,'Graph Data'!X$1,'PCO Log'!$E$7:$SJ$7,"Approved") -> 0 | ... BX19: =SUMIFS('PCO Log'!$E29:$SJ29,'PCO Log'!$E$9:$SJ$9,'Graph Data'!BX$1,'PCO Log'!$E$7:$SJ$7,"Approved") -> 0
A20: PCO 19 | B20: ='PCO Log'!W7 -> 0 | C20: ='PCO Log'!W4 -> 0 | D20: {=INDEX('PCO Log'!$E$5:$SJ$5, 1, ROWS('Graph Data'!$D$2:D20))} -> 0 | E20: ='PCO Log'!W8 -> 0 | F20: ='PCO Log'!W3 -> 0 | G20: ='PCO Log'!W10 -> 0 | H20: ='PCO Log'!W6 -> 0 | J20: Pay App 19 | K20: ='Pay App 19'!H33 -> 0 | L20: =IF(M20>0,'Pay App 19'!$G$149,0) -> 0 | M20: ='Pay App 19'!H149 -> 0 | O20: ='Pay App 1'!B75 -> 03 20 00 | P20: ='Pay App 1'!C75 -> Building Concrete Reinforcing | Q20: =SUMIFS('PCO Log'!$E30:$SJ30,'PCO Log'!$E$9:$SJ$9,'Graph Data'!Q$1,'PCO Log'!$E$7:$SJ$7,"Approved") -> 0 | R20: =SUMIFS('PCO Log'!$E30:$SJ30,'PCO Log'!$E$9:$SJ$9,'Graph Data'!R$1,'PCO Log'!$E$7:$SJ$7,"Approved") -> 0 | S20: =SUMIFS('PCO Log'!$E30:$SJ30,'PCO Log'!$E$9:$SJ$9,'Graph Data'!S$1,'PCO Log'!$E$7:$SJ$7,"Approved") -> 0 | T20: =SUMIFS('PCO Log'!$E30:$SJ30,'PCO Log'!$E$9:$SJ$9,'Graph Data'!T$1,'PCO Log'!$E$7:$SJ$7,"Approved") -> 0 | U20: =SUMIFS('PCO Log'!$E30:$SJ30,'PCO Log'!$E$9:$SJ$9,'Graph Data'!U$1,'PCO Log'!$E$7:$SJ$7,"Approved") -> 0 | V20: =SUMIFS('PCO Log'!$E30:$SJ30,'PCO Log'!$E$9:$SJ$9,'Graph Data'!V$1,'PCO Log'!$E$7:$SJ$7,"Approved") -> 0 | W20: =SUMIFS('PCO Log'!$E30:$SJ30,'PCO Log'!$E$9:$SJ$9,'Graph Data'!W$1,'PCO Log'!$E$7:$SJ$7,"Approved") -> 0 | X20: =SUMIFS('PCO Log'!$E30:$SJ30,'PCO Log'!$E$9:$SJ$9,'Graph Data'!X$1,'PCO Log'!$E$7:$SJ$7,"Approved") -> 0 | ... BX20: =SUMIFS('PCO Log'!$E30:$SJ30,'PCO Log'!$E$9:$SJ$9,'Graph Data'!BX$1,'PCO Log'!$E$7:$SJ$7,"Approved") -> 0
A21: PCO 20 | B21: ='PCO Log'!X7 -> 0 | C21: ='PCO Log'!X4 -> 0 | D21: {=INDEX('PCO Log'!$E$5:$SJ$5, 1, ROWS('Graph Data'!$D$2:D21))} -> 0 | E21: ='PCO Log'!X8 -> 0 | F21: ='PCO Log'!X3 -> 0 | G21: ='PCO Log'!X10 -> 0 | H21: ='PCO Log'!X6 -> 0 | J21: Pay App 20 | K21: ='Pay App 20'!H33 -> 0 | L21: =IF(M21>0,'Pay App 20'!$G$149,0) -> 0 | M21: ='Pay App 20'!H149 -> 0 | O21: ='Pay App 1'!B76 -> 03 40 00 | P21: ='Pay App 1'!C76 -> Precast | Q21: =SUMIFS('PCO Log'!$E31:$SJ31,'PCO Log'!$E$9:$SJ$9,'Graph Data'!Q$1,'PCO Log'!$E$7:$SJ$7,"Approved") -> 0 | R21: =SUMIFS('PCO Log'!$E31:$SJ31,'PCO Log'!$E$9:$SJ$9,'Graph Data'!R$1,'PCO Log'!$E$7:$SJ$7,"Approved") -> 0 | S21: =SUMIFS('PCO Log'!$E31:$SJ31,'PCO Log'!$E$9:$SJ$9,'Graph Data'!S$1,'PCO Log'!$E$7:$SJ$7,"Approved") -> 0 | T21: =SUMIFS('PCO Log'!$E31:$SJ31,'PCO Log'!$E$9:$SJ$9,'Graph Data'!T$1,'PCO Log'!$E$7:$SJ$7,"Approved") -> 0 | U21: =SUMIFS('PCO Log'!$E31:$SJ31,'PCO Log'!$E$9:$SJ$9,'Graph Data'!U$1,'PCO Log'!$E$7:$SJ$7,"Approved") -> 0 | V21: =SUMIFS('PCO Log'!$E31:$SJ31,'PCO Log'!$E$9:$SJ$9,'Graph Data'!V$1,'PCO Log'!$E$7:$SJ$7,"Approved") -> 0 | W21: =SUMIFS('PCO Log'!$E31:$SJ31,'PCO Log'!$E$9:$SJ$9,'Graph Data'!W$1,'PCO Log'!$E$7:$SJ$7,"Approved") -> 0 | X21: =SUMIFS('PCO Log'!$E31:$SJ31,'PCO Log'!$E$9:$SJ$9,'Graph Data'!X$1,'PCO Log'!$E$7:$SJ$7,"Approved") -> 0 | ... BX21: =SUMIFS('PCO Log'!$E31:$SJ31,'PCO Log'!$E$9:$SJ$9,'Graph Data'!BX$1,'PCO Log'!$E$7:$SJ$7,"Approved") -> 0
A22: PCO 21 | B22: ='PCO Log'!Y7 -> 0 | C22: ='PCO Log'!Y4 -> 0 | D22: {=INDEX('PCO Log'!$E$5:$SJ$5, 1, ROWS('Graph Data'!$D$2:D22))} -> 0 | E22: ='PCO Log'!Y8 -> 0 | F22: ='PCO Log'!Y3 -> 0 | G22: ='PCO Log'!Y10 -> 0 | H22: ='PCO Log'!Y6 -> 0 | J22: Pay App 21 | K22: ='Pay App 21'!H33 -> 0 | L22: =IF(M22>0,'Pay App 21'!$G$149,0) -> 0 | M22: ='Pay App 21'!H149 -> 0 | O22: ='Pay App 1'!B77 -> 04 00 00 | P22: ='Pay App 1'!C77 -> Masonry | Q22: =SUMIFS('PCO Log'!$E32:$SJ32,'PCO Log'!$E$9:$SJ$9,'Graph Data'!Q$1,'PCO Log'!$E$7:$SJ$7,"Approved") -> 0 | R22: =SUMIFS('PCO Log'!$E32:$SJ32,'PCO Log'!$E$9:$SJ$9,'Graph Data'!R$1,'PCO Log'!$E$7:$SJ$7,"Approved") -> 0 | S22: =SUMIFS('PCO Log'!$E32:$SJ32,'PCO Log'!$E$9:$SJ$9,'Graph Data'!S$1,'PCO Log'!$E$7:$SJ$7,"Approved") -> 0 | T22: =SUMIFS('PCO Log'!$E32:$SJ32,'PCO Log'!$E$9:$SJ$9,'Graph Data'!T$1,'PCO Log'!$E$7:$SJ$7,"Approved") -> 0 | U22: =SUMIFS('PCO Log'!$E32:$SJ32,'PCO Log'!$E$9:$SJ$9,'Graph Data'!U$1,'PCO Log'!$E$7:$SJ$7,"Approved") -> 0 | V22: =SUMIFS('PCO Log'!$E32:$SJ32,'PCO Log'!$E$9:$SJ$9,'Graph Data'!V$1,'PCO Log'!$E$7:$SJ$7,"Approved") -> 0 | W22: =SUMIFS('PCO Log'!$E32:$SJ32,'PCO Log'!$E$9:$SJ$9,'Graph Data'!W$1,'PCO Log'!$E$7:$SJ$7,"Approved") -> 0 | X22: =SUMIFS('PCO Log'!$E32:$SJ32,'PCO Log'!$E$9:$SJ$9,'Graph Data'!X$1,'PCO Log'!$E$7:$SJ$7,"Approved") -> 0 | ... BX22: =SUMIFS('PCO Log'!$E32:$SJ32,'PCO Log'!$E$9:$SJ$9,'Graph Data'!BX$1,'PCO Log'!$E$7:$SJ$7,"Approved") -> 0
A23: PCO 22 | B23: ='PCO Log'!Z7 -> 0 | C23: ='PCO Log'!Z4 -> 0 | D23: {=INDEX('PCO Log'!$E$5:$SJ$5, 1, ROWS('Graph Data'!$D$2:D23))} -> 0 | E23: ='PCO Log'!Z8 -> 0 | F23: ='PCO Log'!Z3 -> 0 | G23: ='PCO Log'!Z10 -> 0 | H23: ='PCO Log'!Z6 -> 0 | J23: Pay App 22 | K23: ='Pay App 22'!H33 -> 0 | L23: =IF(M23>0,'Pay App 22'!$G$149,0) -> 0 | M23: ='Pay App 22'!H149 -> 0 | O23: ='Pay App 1'!B78 -> 04 05 19 | P23: ='Pay App 1'!C78 -> Masonry Reinforcing | Q23: =SUMIFS('PCO Log'!$E33:$SJ33,'PCO Log'!$E$9:$SJ$9,'Graph Data'!Q$1,'PCO Log'!$E$7:$SJ$7,"Approved") -> 0 | R23: =SUMIFS('PCO Log'!$E33:$SJ33,'PCO Log'!$E$9:$SJ$9,'Graph Data'!R$1,'PCO Log'!$E$7:$SJ$7,"Approved") -> 0 | S23: =SUMIFS('PCO Log'!$E33:$SJ33,'PCO Log'!$E$9:$SJ$9,'Graph Data'!S$1,'PCO Log'!$E$7:$SJ$7,"Approved") -> 0 | T23: =SUMIFS('PCO Log'!$E33:$SJ33,'PCO Log'!$E$9:$SJ$9,'Graph Data'!T$1,'PCO Log'!$E$7:$SJ$7,"Approved") -> 0 | U23: =SUMIFS('PCO Log'!$E33:$SJ33,'PCO Log'!$E$9:$SJ$9,'Graph Data'!U$1,'PCO Log'!$E$7:$SJ$7,"Approved") -> 0 | V23: =SUMIFS('PCO Log'!$E33:$SJ33,'PCO Log'!$E$9:$SJ$9,'Graph Data'!V$1,'PCO Log'!$E$7:$SJ$7,"Approved") -> 0 | W23: =SUMIFS('PCO Log'!$E33:$SJ33,'PCO Log'!$E$9:$SJ$9,'Graph Data'!W$1,'PCO Log'!$E$7:$SJ$7,"Approved") -> 0 | X23: =SUMIFS('PCO Log'!$E33:$SJ33,'PCO Log'!$E$9:$SJ$9,'Graph Data'!X$1,'PCO Log'!$E$7:$SJ$7,"Approved") -> 0 | ... BX23: =SUMIFS('PCO Log'!$E33:$SJ33,'PCO Log'!$E$9:$SJ$9,'Graph Data'!BX$1,'PCO Log'!$E$7:$SJ$7,"Approved") -> 0
A24: PCO 23 | B24: ='PCO Log'!AA7 -> 0 | C24: ='PCO Log'!AA4 -> 0 | D24: {=INDEX('PCO Log'!$E$5:$SJ$5, 1, ROWS('Graph Data'!$D$2:D24))} -> 0 | E24: ='PCO Log'!AA8 -> 0 | F24: ='PCO Log'!AA3 -> 0 | G24: ='PCO Log'!AA10 -> 0 | H24: ='PCO Log'!AA6 -> 0 | J24: Pay App 23 | K24: ='Pay App 23'!H33 -> 0 | L24: =IF(M24>0,'Pay App 23'!$G$149,0) -> 0 | M24: ='Pay App 23'!H149 -> 0 | O24: ='Pay App 1'!B79 -> 05 10 00 | P24: ='Pay App 1'!C79 -> Structural Steel/Misc. Steel Fab | Q24: =SUMIFS('PCO Log'!$E34:$SJ34,'PCO Log'!$E$9:$SJ$9,'Graph Data'!Q$1,'PCO Log'!$E$7:$SJ$7,"Approved") -> 0 | R24: =SUMIFS('PCO Log'!$E34:$SJ34,'PCO Log'!$E$9:$SJ$9,'Graph Data'!R$1,'PCO Log'!$E$7:$SJ$7,"Approved") -> 0 | S24: =SUMIFS('PCO Log'!$E34:$SJ34,'PCO Log'!$E$9:$SJ$9,'Graph Data'!S$1,'PCO Log'!$E$7:$SJ$7,"Approved") -> 0 | T24: =SUMIFS('PCO Log'!$E34:$SJ34,'PCO Log'!$E$9:$SJ$9,'Graph Data'!T$1,'PCO Log'!$E$7:$SJ$7,"Approved") -> 0 | U24: =SUMIFS('PCO Log'!$E34:$SJ34,'PCO Log'!$E$9:$SJ$9,'Graph Data'!U$1,'PCO Log'!$E$7:$SJ$7,"Approved") -> 0 | V24: =SUMIFS('PCO Log'!$E34:$SJ34,'PCO Log'!$E$9:$SJ$9,'Graph Data'!V$1,'PCO Log'!$E$7:$SJ$7,"Approved") -> 0 | W24: =SUMIFS('PCO Log'!$E34:$SJ34,'PCO Log'!$E$9:$SJ$9,'Graph Data'!W$1,'PCO Log'!$E$7:$SJ$7,"Approved") -> 0 | X24: =SUMIFS('PCO Log'!$E34:$SJ34,'PCO Log'!$E$9:$SJ$9,'Graph Data'!X$1,'PCO Log'!$E$7:$SJ$7,"Approved") -> 0 | ... BX24: =SUMIFS('PCO Log'!$E34:$SJ34,'PCO Log'!$E$9:$SJ$9,'Graph Data'!BX$1,'PCO Log'!$E$7:$SJ$7,"Approved") -> 0
A25: PCO 24 | B25: ='PCO Log'!AB7 -> 0 | C25: ='PCO Log'!AB4 -> 0 | D25: {=INDEX('PCO Log'!$E$5:$SJ$5, 1, ROWS('Graph Data'!$D$2:D25))} -> 0 | E25: ='PCO Log'!AB8 -> 0 | F25: ='PCO Log'!AB3 -> 0 | G25: ='PCO Log'!AB10 -> 0 | H25: ='PCO Log'!AB6 -> 0 | J25: Pay App 24 | K25: ='Pay App 24'!H33 -> 0 | L25: =IF(M25>0,'Pay App 24'!$G$149,0) -> 0 | M25: ='Pay App 24'!H149 -> 0 | O25: ='Pay App 1'!B80 -> 05 20 00 | P25: ='Pay App 1'!C80 -> Joists & Deck | Q25: =SUMIFS('PCO Log'!$E35:$SJ35,'PCO Log'!$E$9:$SJ$9,'Graph Data'!Q$1,'PCO Log'!$E$7:$SJ$7,"Approved") -> 0 | R25: =SUMIFS('PCO Log'!$E35:$SJ35,'PCO Log'!$E$9:$SJ$9,'Graph Data'!R$1,'PCO Log'!$E$7:$SJ$7,"Approved") -> 0 | S25: =SUMIFS('PCO Log'!$E35:$SJ35,'PCO Log'!$E$9:$SJ$9,'Graph Data'!S$1,'PCO Log'!$E$7:$SJ$7,"Approved") -> 0 | T25: =SUMIFS('PCO Log'!$E35:$SJ35,'PCO Log'!$E$9:$SJ$9,'Graph Data'!T$1,'PCO Log'!$E$7:$SJ$7,"Approved") -> 0 | U25: =SUMIFS('PCO Log'!$E35:$SJ35,'PCO Log'!$E$9:$SJ$9,'Graph Data'!U$1,'PCO Log'!$E$7:$SJ$7,"Approved") -> 0 | V25: =SUMIFS('PCO Log'!$E35:$SJ35,'PCO Log'!$E$9:$SJ$9,'Graph Data'!V$1,'PCO Log'!$E$7:$SJ$7,"Approved") -> 0 | W25: =SUMIFS('PCO Log'!$E35:$SJ35,'PCO Log'!$E$9:$SJ$9,'Graph Data'!W$1,'PCO Log'!$E$7:$SJ$7,"Approved") -> 0 | X25: =SUMIFS('PCO Log'!$E35:$SJ35,'PCO Log'!$E$9:$SJ$9,'Graph Data'!X$1,'PCO Log'!$E$7:$SJ$7,"Approved") -> 0 | ... BX25: =SUMIFS('PCO Log'!$E35:$SJ35,'PCO Log'!$E$9:$SJ$9,'Graph Data'!BX$1,'PCO Log'!$E$7:$SJ$7,"Approved") -> 0
A26: PCO 25 | B26: ='PCO Log'!AC7 -> 0 | C26: ='PCO Log'!AC4 -> 0 | D26: {=INDEX('PCO Log'!$E$5:$SJ$5, 1, ROWS('Graph Data'!$D$2:D26))} -> 0 | E26: ='PCO Log'!AC8 -> 0 | F26: ='PCO Log'!AC3 -> 0 | G26: ='PCO Log'!AC10 -> 0 | H26: ='PCO Log'!AC6 -> 0 | J26: Pay App 25 | K26: ='Pay App 25'!H33 -> 0 | L26: =IF(M26>0,'Pay App 25'!$G$149,0) -> 0 | M26: ='Pay App 25'!H149 -> 0 | O26: ='Pay App 1'!B81 -> 05 70 00 | P26: ='Pay App 1'!C81 -> Ornamental Metal | Q26: =SUMIFS('PCO Log'!$E36:$SJ36,'PCO Log'!$E$9:$SJ$9,'Graph Data'!Q$1,'PCO Log'!$E$7:$SJ$7,"Approved") -> 0 | R26: =SUMIFS('PCO Log'!$E36:$SJ36,'PCO Log'!$E$9:$SJ$9,'Graph Data'!R$1,'PCO Log'!$E$7:$SJ$7,"Approved") -> 0 | S26: =SUMIFS('PCO Log'!$E36:$SJ36,'PCO Log'!$E$9:$SJ$9,'Graph Data'!S$1,'PCO Log'!$E$7:$SJ$7,"Approved") -> 0 | T26: =SUMIFS('PCO Log'!$E36:$SJ36,'PCO Log'!$E$9:$SJ$9,'Graph Data'!T$1,'PCO Log'!$E$7:$SJ$7,"Approved") -> 0 | U26: =SUMIFS('PCO Log'!$E36:$SJ36,'PCO Log'!$E$9:$SJ$9,'Graph Data'!U$1,'PCO Log'!$E$7:$SJ$7,"Approved") -> 0 | V26: =SUMIFS('PCO Log'!$E36:$SJ36,'PCO Log'!$E$9:$SJ$9,'Graph Data'!V$1,'PCO Log'!$E$7:$SJ$7,"Approved") -> 0 | W26: =SUMIFS('PCO Log'!$E36:$SJ36,'PCO Log'!$E$9:$SJ$9,'Graph Data'!W$1,'PCO Log'!$E$7:$SJ$7,"Approved") -> 0 | X26: =SUMIFS('PCO Log'!$E36:$SJ36,'PCO Log'!$E$9:$SJ$9,'Graph Data'!X$1,'PCO Log'!$E$7:$SJ$7,"Approved") -> 0 | ... BX26: =SUMIFS('PCO Log'!$E36:$SJ36,'PCO Log'!$E$9:$SJ$9,'Graph Data'!BX$1,'PCO Log'!$E$7:$SJ$7,"Approved") -> 0
A27: PCO 26 | B27: ='PCO Log'!AD7 -> 0 | C27: ='PCO Log'!AD4 -> 0 | D27: {=INDEX('PCO Log'!$E$5:$SJ$5, 1, ROWS('Graph Data'!$D$2:D27))} -> 0 | E27: ='PCO Log'!AD8 -> 0 | F27: ='PCO Log'!AD3 -> 0 | G27: ='PCO Log'!AD10 -> 0 | H27: ='PCO Log'!AD6 -> 0 | J27: Pay App 26 | K27: ='Pay App 26'!H33 -> 0 | L27: =IF(M27>0,'Pay App 26'!$G$149,0) -> 0 | M27: ='Pay App 26'!H149 -> 0 | O27: ='Pay App 1'!B82 -> 06 10 00 | P27: ='Pay App 1'!C82 -> Rough Carpentry | Q27: =SUMIFS('PCO Log'!$E37:$SJ37,'PCO Log'!$E$9:$SJ$9,'Graph Data'!Q$1,'PCO Log'!$E$7:$SJ$7,"Approved") -> 0 | R27: =SUMIFS('PCO Log'!$E37:$SJ37,'PCO Log'!$E$9:$SJ$9,'Graph Data'!R$1,'PCO Log'!$E$7:$SJ$7,"Approved") -> 0 | S27: =SUMIFS('PCO Log'!$E37:$SJ37,'PCO Log'!$E$9:$SJ$9,'Graph Data'!S$1,'PCO Log'!$E$7:$SJ$7,"Approved") -> 0 | T27: =SUMIFS('PCO Log'!$E37:$SJ37,'PCO Log'!$E$9:$SJ$9,'Graph Data'!T$1,'PCO Log'!$E$7:$SJ$7,"Approved") -> 0 | U27: =SUMIFS('PCO Log'!$E37:$SJ37,'PCO Log'!$E$9:$SJ$9,'Graph Data'!U$1,'PCO Log'!$E$7:$SJ$7,"Approved") -> 0 | V27: =SUMIFS('PCO Log'!$E37:$SJ37,'PCO Log'!$E$9:$SJ$9,'Graph Data'!V$1,'PCO Log'!$E$7:$SJ$7,"Approved") -> 0 | W27: =SUMIFS('PCO Log'!$E37:$SJ37,'PCO Log'!$E$9:$SJ$9,'Graph Data'!W$1,'PCO Log'!$E$7:$SJ$7,"Approved") -> 0 | X27: =SUMIFS('PCO Log'!$E37:$SJ37,'PCO Log'!$E$9:$SJ$9,'Graph Data'!X$1,'PCO Log'!$E$7:$SJ$7,"Approved") -> 0 | ... BX27: =SUMIFS('PCO Log'!$E37:$SJ37,'PCO Log'!$E$9:$SJ$9,'Graph Data'!BX$1,'PCO Log'!$E$7:$SJ$7,"Approved") -> 0
A28: PCO 27 | B28: ='PCO Log'!AE7 -> 0 | C28: ='PCO Log'!AE4 -> 0 | D28: {=INDEX('PCO Log'!$E$5:$SJ$5, 1, ROWS('Graph Data'!$D$2:D28))} -> 0 | E28: ='PCO Log'!AE8 -> 0 | F28: ='PCO Log'!AE3 -> 0 | G28: ='PCO Log'!AE10 -> 0 | H28: ='PCO Log'!AE6 -> 0 | J28: Pay App 27 | K28: ='Pay App 27'!H33 -> 0 | L28: =IF(M28>0,'Pay App 27'!$G$149,0) -> 0 | M28: ='Pay App 27'!H149 -> 0 | O28: ='Pay App 1'!B83 -> 06 40 00 | P28: ='Pay App 1'!C83 -> Arch. Woodwork & Finish Carp. | Q28: =SUMIFS('PCO Log'!$E38:$SJ38,'PCO Log'!$E$9:$SJ$9,'Graph Data'!Q$1,'PCO Log'!$E$7:$SJ$7,"Approved") -> 0 | R28: =SUMIFS('PCO Log'!$E38:$SJ38,'PCO Log'!$E$9:$SJ$9,'Graph Data'!R$1,'PCO Log'!$E$7:$SJ$7,"Approved") -> 0 | S28: =SUMIFS('PCO Log'!$E38:$SJ38,'PCO Log'!$E$9:$SJ$9,'Graph Data'!S$1,'PCO Log'!$E$7:$SJ$7,"Approved") -> 0 | T28: =SUMIFS('PCO Log'!$E38:$SJ38,'PCO Log'!$E$9:$SJ$9,'Graph Data'!T$1,'PCO Log'!$E$7:$SJ$7,"Approved") -> 0 | U28: =SUMIFS('PCO Log'!$E38:$SJ38,'PCO Log'!$E$9:$SJ$9,'Graph Data'!U$1,'PCO Log'!$E$7:$SJ$7,"Approved") -> 0 | V28: =SUMIFS('PCO Log'!$E38:$SJ38,'PCO Log'!$E$9:$SJ$9,'Graph Data'!V$1,'PCO Log'!$E$7:$SJ$7,"Approved") -> 0 | W28: =SUMIFS('PCO Log'!$E38:$SJ38,'PCO Log'!$E$9:$SJ$9,'Graph Data'!W$1,'PCO Log'!$E$7:$SJ$7,"Approved") -> 0 | X28: =SUMIFS('PCO Log'!$E38:$SJ38,'PCO Log'!$E$9:$SJ$9,'Graph Data'!X$1,'PCO Log'!$E$7:$SJ$7,"Approved") -> 0 | ... BX28: =SUMIFS('PCO Log'!$E38:$SJ38,'PCO Log'!$E$9:$SJ$9,'Graph Data'!BX$1,'PCO Log'!$E$7:$SJ$7,"Approved") -> 0
A29: PCO 28 | B29: ='PCO Log'!AF7 -> 0 | C29: ='PCO Log'!AF4 -> 0 | D29: {=INDEX('PCO Log'!$E$5:$SJ$5, 1, ROWS('Graph Data'!$D$2:D29))} -> 0 | E29: ='PCO Log'!AF8 -> 0 | F29: ='PCO Log'!AF3 -> 0 | G29: ='PCO Log'!AF10 -> 0 | H29: ='PCO Log'!AF6 -> 0 | J29: Pay App 28 | K29: ='Pay App 28'!H33 -> 0 | L29: =IF(M29>0,'Pay App 28'!$G$149,0) -> 0 | M29: ='Pay App 28'!H149 -> 0 | O29: ='Pay App 1'!B84 -> 07 10 00 | P29: ='Pay App 1'!C84 -> Waterproofing/Water Repellents | Q29: =SUMIFS('PCO Log'!$E39:$SJ39,'PCO Log'!$E$9:$SJ$9,'Graph Data'!Q$1,'PCO Log'!$E$7:$SJ$7,"Approved") -> 0 | R29: =SUMIFS('PCO Log'!$E39:$SJ39,'PCO Log'!$E$9:$SJ$9,'Graph Data'!R$1,'PCO Log'!$E$7:$SJ$7,"Approved") -> 0 | S29: =SUMIFS('PCO Log'!$E39:$SJ39,'PCO Log'!$E$9:$SJ$9,'Graph Data'!S$1,'PCO Log'!$E$7:$SJ$7,"Approved") -> 0 | T29: =SUMIFS('PCO Log'!$E39:$SJ39,'PCO Log'!$E$9:$SJ$9,'Graph Data'!T$1,'PCO Log'!$E$7:$SJ$7,"Approved") -> 0 | U29: =SUMIFS('PCO Log'!$E39:$SJ39,'PCO Log'!$E$9:$SJ$9,'Graph Data'!U$1,'PCO Log'!$E$7:$SJ$7,"Approved") -> 0 | V29: =SUMIFS('PCO Log'!$E39:$SJ39,'PCO Log'!$E$9:$SJ$9,'Graph Data'!V$1,'PCO Log'!$E$7:$SJ$7,"Approved") -> 0 | W29: =SUMIFS('PCO Log'!$E39:$SJ39,'PCO Log'!$E$9:$SJ$9,'Graph Data'!W$1,'PCO Log'!$E$7:$SJ$7,"Approved") -> 0 | X29: =SUMIFS('PCO Log'!$E39:$SJ39,'PCO Log'!$E$9:$SJ$9,'Graph Data'!X$1,'PCO Log'!$E$7:$SJ$7,"Approved") -> 0 | ... BX29: =SUMIFS('PCO Log'!$E39:$SJ39,'PCO Log'!$E$9:$SJ$9,'Graph Data'!BX$1,'PCO Log'!$E$7:$SJ$7,"Approved") -> 0
A30: PCO 29 | B30: ='PCO Log'!AG7 -> 0 | C30: ='PCO Log'!AG4 -> 0 | D30: {=INDEX('PCO Log'!$E$5:$SJ$5, 1, ROWS('Graph Data'!$D$2:D30))} -> 0 | E30: ='PCO Log'!AG8 -> 0 | F30: ='PCO Log'!AG3 -> 0 | G30: ='PCO Log'!AG10 -> 0 | H30: ='PCO Log'!AG6 -> 0 | J30: Pay App 29 | K30: ='Pay App 29'!H33 -> 0 | L30: =IF(M30>0,'Pay App 29'!$G$149,0) -> 0 | M30: ='Pay App 29'!H149 -> 0 | O30: ='Pay App 1'!B85 -> 07 20 00 | P30: ='Pay App 1'!C85 -> Insulation | Q30: =SUMIFS('PCO Log'!$E40:$SJ40,'PCO Log'!$E$9:$SJ$9,'Graph Data'!Q$1,'PCO Log'!$E$7:$SJ$7,"Approved") -> 0 | R30: =SUMIFS('PCO Log'!$E40:$SJ40,'PCO Log'!$E$9:$SJ$9,'Graph Data'!R$1,'PCO Log'!$E$7:$SJ$7,"Approved") -> 0 | S30: =SUMIFS('PCO Log'!$E40:$SJ40,'PCO Log'!$E$9:$SJ$9,'Graph Data'!S$1,'PCO Log'!$E$7:$SJ$7,"Approved") -> 0 | T30: =SUMIFS('PCO Log'!$E40:$SJ40,'PCO Log'!$E$9:$SJ$9,'Graph Data'!T$1,'PCO Log'!$E$7:$SJ$7,"Approved") -> 0 | U30: =SUMIFS('PCO Log'!$E40:$SJ40,'PCO Log'!$E$9:$SJ$9,'Graph Data'!U$1,'PCO Log'!$E$7:$SJ$7,"Approved") -> 0 | V30: =SUMIFS('PCO Log'!$E40:$SJ40,'PCO Log'!$E$9:$SJ$9,'Graph Data'!V$1,'PCO Log'!$E$7:$SJ$7,"Approved") -> 0 | W30: =SUMIFS('PCO Log'!$E40:$SJ40,'PCO Log'!$E$9:$SJ$9,'Graph Data'!W$1,'PCO Log'!$E$7:$SJ$7,"Approved") -> 0 | X30: =SUMIFS('PCO Log'!$E40:$SJ40,'PCO Log'!$E$9:$SJ$9,'Graph Data'!X$1,'PCO Log'!$E$7:$SJ$7,"Approved") -> 0 | ... BX30: =SUMIFS('PCO Log'!$E40:$SJ40,'PCO Log'!$E$9:$SJ$9,'Graph Data'!BX$1,'PCO Log'!$E$7:$SJ$7,"Approved") -> 0
A31: PCO 30 | B31: ='PCO Log'!AH7 -> 0 | C31: ='PCO Log'!AH4 -> 0 | D31: {=INDEX('PCO Log'!$E$5:$SJ$5, 1, ROWS('Graph Data'!$D$2:D31))} -> 0 | E31: ='PCO Log'!AH8 -> 0 | F31: ='PCO Log'!AH3 -> 0 | G31: ='PCO Log'!AH10 -> 0 | H31: ='PCO Log'!AH6 -> 0 | J31: Pay App 30 | K31: ='Pay App 30'!H33 -> 0 | L31: =IF(M31>0,'Pay App 30'!$G$149,0) -> 0 | M31: ='Pay App 30'!H149 -> 0 | O31: ='Pay App 1'!B86 -> 07 24 00 | P31: ='Pay App 1'!C86 -> EIFS | Q31: =SUMIFS('PCO Log'!$E41:$SJ41,'PCO Log'!$E$9:$SJ$9,'Graph Data'!Q$1,'PCO Log'!$E$7:$SJ$7,"Approved") -> 0 | R31: =SUMIFS('PCO Log'!$E41:$SJ41,'PCO Log'!$E$9:$SJ$9,'Graph Data'!R$1,'PCO Log'!$E$7:$SJ$7,"Approved") -> 0 | S31: =SUMIFS('PCO Log'!$E41:$SJ41,'PCO Log'!$E$9:$SJ$9,'Graph Data'!S$1,'PCO Log'!$E$7:$SJ$7,"Approved") -> 0 | T31: =SUMIFS('PCO Log'!$E41:$SJ41,'PCO Log'!$E$9:$SJ$9,'Graph Data'!T$1,'PCO Log'!$E$7:$SJ$7,"Approved") -> 0 | U31: =SUMIFS('PCO Log'!$E41:$SJ41,'PCO Log'!$E$9:$SJ$9,'Graph Data'!U$1,'PCO Log'!$E$7:$SJ$7,"Approved") -> 0 | V31: =SUMIFS('PCO Log'!$E41:$SJ41,'PCO Log'!$E$9:$SJ$9,'Graph Data'!V$1,'PCO Log'!$E$7:$SJ$7,"Approved") -> 0 | W31: =SUMIFS('PCO Log'!$E41:$SJ41,'PCO Log'!$E$9:$SJ$9,'Graph Data'!W$1,'PCO Log'!$E$7:$SJ$7,"Approved") -> 0 | X31: =SUMIFS('PCO Log'!$E41:$SJ41,'PCO Log'!$E$9:$SJ$9,'Graph Data'!X$1,'PCO Log'!$E$7:$SJ$7,"Approved") -> 0 | ... BX31: =SUMIFS('PCO Log'!$E41:$SJ41,'PCO Log'!$E$9:$SJ$9,'Graph Data'!BX$1,'PCO Log'!$E$7:$SJ$7,"Approved") -> 0
A32: PCO 31 | B32: ='PCO Log'!AI7 -> 0 | C32: ='PCO Log'!AI4 -> 0 | D32: {=INDEX('PCO Log'!$E$5:$SJ$5, 1, ROWS('Graph Data'!$D$2:D32))} -> 0 | E32: ='PCO Log'!AI8 -> 0 | F32: ='PCO Log'!AI3 -> 0 | G32: ='PCO Log'!AI10 -> 0 | H32: ='PCO Log'!AI6 -> 0 | J32: Pay App 31 | K32: ='Pay App 31'!H33 -> 0 | L32: =IF(M32>0,'Pay App 31'!$G$149,0) -> 0 | M32: ='Pay App 31'!H149 -> 0 | O32: ='Pay App 1'!B87 -> 07 26 00 | P32: ='Pay App 1'!C87 -> Vapor Retarders | Q32: =SUMIFS('PCO Log'!$E42:$SJ42,'PCO Log'!$E$9:$SJ$9,'Graph Data'!Q$1,'PCO Log'!$E$7:$SJ$7,"Approved") -> 0 | R32: =SUMIFS('PCO Log'!$E42:$SJ42,'PCO Log'!$E$9:$SJ$9,'Graph Data'!R$1,'PCO Log'!$E$7:$SJ$7,"Approved") -> 0 | S32: =SUMIFS('PCO Log'!$E42:$SJ42,'PCO Log'!$E$9:$SJ$9,'Graph Data'!S$1,'PCO Log'!$E$7:$SJ$7,"Approved") -> 0 | T32: =SUMIFS('PCO Log'!$E42:$SJ42,'PCO Log'!$E$9:$SJ$9,'Graph Data'!T$1,'PCO Log'!$E$7:$SJ$7,"Approved") -> 0 | U32: =SUMIFS('PCO Log'!$E42:$SJ42,'PCO Log'!$E$9:$SJ$9,'Graph Data'!U$1,'PCO Log'!$E$7:$SJ$7,"Approved") -> 0 | V32: =SUMIFS('PCO Log'!$E42:$SJ42,'PCO Log'!$E$9:$SJ$9,'Graph Data'!V$1,'PCO Log'!$E$7:$SJ$7,"Approved") -> 0 | W32: =SUMIFS('PCO Log'!$E42:$SJ42,'PCO Log'!$E$9:$SJ$9,'Graph Data'!W$1,'PCO Log'!$E$7:$SJ$7,"Approved") -> 0 | X32: =SUMIFS('PCO Log'!$E42:$SJ42,'PCO Log'!$E$9:$SJ$9,'Graph Data'!X$1,'PCO Log'!$E$7:$SJ$7,"Approved") -> 0 | ... BX32: =SUMIFS('PCO Log'!$E42:$SJ42,'PCO Log'!$E$9:$SJ$9,'Graph Data'!BX$1,'PCO Log'!$E$7:$SJ$7,"Approved") -> 0
A33: PCO 32 | B33: ='PCO Log'!AJ7 -> 0 | C33: ='PCO Log'!AJ4 -> 0 | D33: {=INDEX('PCO Log'!$E$5:$SJ$5, 1, ROWS('Graph Data'!$D$2:D33))} -> 0 | E33: ='PCO Log'!AJ8 -> 0 | F33: ='PCO Log'!AJ3 -> 0 | G33: ='PCO Log'!AJ10 -> 0 | H33: ='PCO Log'!AJ6 -> 0 | J33: Pay App 32 | K33: ='Pay App 32'!H33 -> 0 | L33: =IF(M33>0,'Pay App 32'!$G$149,0) -> 0 | M33: ='Pay App 32'!H149 -> 0 | O33: ='Pay App 1'!B88 -> 07 41 00 | P33: ='Pay App 1'!C88 -> Roofing | Q33: =SUMIFS('PCO Log'!$E43:$SJ43,'PCO Log'!$E$9:$SJ$9,'Graph Data'!Q$1,'PCO Log'!$E$7:$SJ$7,"Approved") -> 0 | R33: =SUMIFS('PCO Log'!$E43:$SJ43,'PCO Log'!$E$9:$SJ$9,'Graph Data'!R$1,'PCO Log'!$E$7:$SJ$7,"Approved") -> 0 | S33: =SUMIFS('PCO Log'!$E43:$SJ43,'PCO Log'!$E$9:$SJ$9,'Graph Data'!S$1,'PCO Log'!$E$7:$SJ$7,"Approved") -> 0 | T33: =SUMIFS('PCO Log'!$E43:$SJ43,'PCO Log'!$E$9:$SJ$9,'Graph Data'!T$1,'PCO Log'!$E$7:$SJ$7,"Approved") -> 0 | U33: =SUMIFS('PCO Log'!$E43:$SJ43,'PCO Log'!$E$9:$SJ$9,'Graph Data'!U$1,'PCO Log'!$E$7:$SJ$7,"Approved") -> 0 | V33: =SUMIFS('PCO Log'!$E43:$SJ43,'PCO Log'!$E$9:$SJ$9,'Graph Data'!V$1,'PCO Log'!$E$7:$SJ$7,"Approved") -> 0 | W33: =SUMIFS('PCO Log'!$E43:$SJ43,'PCO Log'!$E$9:$SJ$9,'Graph Data'!W$1,'PCO Log'!$E$7:$SJ$7,"Approved") -> 0 | X33: =SUMIFS('PCO Log'!$E43:$SJ43,'PCO Log'!$E$9:$SJ$9,'Graph Data'!X$1,'PCO Log'!$E$7:$SJ$7,"Approved") -> 0 | ... BX33: =SUMIFS('PCO Log'!$E43:$SJ43,'PCO Log'!$E$9:$SJ$9,'Graph Data'!BX$1,'PCO Log'!$E$7:$SJ$7,"Approved") -> 0
A34: PCO 33 | B34: ='PCO Log'!AK7 -> 0 | C34: ='PCO Log'!AK4 -> 0 | D34: {=INDEX('PCO Log'!$E$5:$SJ$5, 1, ROWS('Graph Data'!$D$2:D34))} -> 0 | E34: ='PCO Log'!AK8 -> 0 | F34: ='PCO Log'!AK3 -> 0 | G34: ='PCO Log'!AK10 -> 0 | H34: ='PCO Log'!AK6 -> 0 | J34: Pay App 33 | K34: ='Pay App 33'!H33 -> 0 | L34: =IF(M34>0,'Pay App 33'!$G$149,0) -> 0 | M34: ='Pay App 33'!H149 -> 0 | O34: ='Pay App 1'!B89 -> 07 42 00 | P34: ='Pay App 1'!C89 -> Metal Panels | Q34: =SUMIFS('PCO Log'!$E44:$SJ44,'PCO Log'!$E$9:$SJ$9,'Graph Data'!Q$1,'PCO Log'!$E$7:$SJ$7,"Approved") -> 0 | R34: =SUMIFS('PCO Log'!$E44:$SJ44,'PCO Log'!$E$9:$SJ$9,'Graph Data'!R$1,'PCO Log'!$E$7:$SJ$7,"Approved") -> 0 | S34: =SUMIFS('PCO Log'!$E44:$SJ44,'PCO Log'!$E$9:$SJ$9,'Graph Data'!S$1,'PCO Log'!$E$7:$SJ$7,"Approved") -> 0 | T34: =SUMIFS('PCO Log'!$E44:$SJ44,'PCO Log'!$E$9:$SJ$9,'Graph Data'!T$1,'PCO Log'!$E$7:$SJ$7,"Approved") -> 0 | U34: =SUMIFS('PCO Log'!$E44:$SJ44,'PCO Log'!$E$9:$SJ$9,'Graph Data'!U$1,'PCO Log'!$E$7:$SJ$7,"Approved") -> 0 | V34: =SUMIFS('PCO Log'!$E44:$SJ44,'PCO Log'!$E$9:$SJ$9,'Graph Data'!V$1,'PCO Log'!$E$7:$SJ$7,"Approved") -> 0 | W34: =SUMIFS('PCO Log'!$E44:$SJ44,'PCO Log'!$E$9:$SJ$9,'Graph Data'!W$1,'PCO Log'!$E$7:$SJ$7,"Approved") -> 0 | X34: =SUMIFS('PCO Log'!$E44:$SJ44,'PCO Log'!$E$9:$SJ$9,'Graph Data'!X$1,'PCO Log'!$E$7:$SJ$7,"Approved") -> 0 | ... BX34: =SUMIFS('PCO Log'!$E44:$SJ44,'PCO Log'!$E$9:$SJ$9,'Graph Data'!BX$1,'PCO Log'!$E$7:$SJ$7,"Approved") -> 0
A35: PCO 34 | B35: ='PCO Log'!AL7 -> 0 | C35: ='PCO Log'!AL4 -> 0 | D35: {=INDEX('PCO Log'!$E$5:$SJ$5, 1, ROWS('Graph Data'!$D$2:D35))} -> 0 | E35: ='PCO Log'!AL8 -> 0 | F35: ='PCO Log'!AL3 -> 0 | G35: ='PCO Log'!AL10 -> 0 | H35: ='PCO Log'!AL6 -> 0 | J35: Pay App 34 | K35: ='Pay App 34'!H33 -> 0 | L35: =IF(M35>0,'Pay App 34'!$G$149,0) -> 0 | M35: ='Pay App 34'!H149 -> 0 | O35: ='Pay App 1'!B90 -> 07 60 00 | P35: ='Pay App 1'!C90 -> Sheet Metal Flashing & Trim | Q35: =SUMIFS('PCO Log'!$E45:$SJ45,'PCO Log'!$E$9:$SJ$9,'Graph Data'!Q$1,'PCO Log'!$E$7:$SJ$7,"Approved") -> 0 | R35: =SUMIFS('PCO Log'!$E45:$SJ45,'PCO Log'!$E$9:$SJ$9,'Graph Data'!R$1,'PCO Log'!$E$7:$SJ$7,"Approved") -> 0 | S35: =SUMIFS('PCO Log'!$E45:$SJ45,'PCO Log'!$E$9:$SJ$9,'Graph Data'!S$1,'PCO Log'!$E$7:$SJ$7,"Approved") -> 0 | T35: =SUMIFS('PCO Log'!$E45:$SJ45,'PCO Log'!$E$9:$SJ$9,'Graph Data'!T$1,'PCO Log'!$E$7:$SJ$7,"Approved") -> 0 | U35: =SUMIFS('PCO Log'!$E45:$SJ45,'PCO Log'!$E$9:$SJ$9,'Graph Data'!U$1,'PCO Log'!$E$7:$SJ$7,"Approved") -> 0 | V35: =SUMIFS('PCO Log'!$E45:$SJ45,'PCO Log'!$E$9:$SJ$9,'Graph Data'!V$1,'PCO Log'!$E$7:$SJ$7,"Approved") -> 0 | W35: =SUMIFS('PCO Log'!$E45:$SJ45,'PCO Log'!$E$9:$SJ$9,'Graph Data'!W$1,'PCO Log'!$E$7:$SJ$7,"Approved") -> 0 | X35: =SUMIFS('PCO Log'!$E45:$SJ45,'PCO Log'!$E$9:$SJ$9,'Graph Data'!X$1,'PCO Log'!$E$7:$SJ$7,"Approved") -> 0 | ... BX35: =SUMIFS('PCO Log'!$E45:$SJ45,'PCO Log'!$E$9:$SJ$9,'Graph Data'!BX$1,'PCO Log'!$E$7:$SJ$7,"Approved") -> 0
A36: PCO 35 | B36: ='PCO Log'!AM7 -> 0 | C36: ='PCO Log'!AM4 -> 0 | D36: {=INDEX('PCO Log'!$E$5:$SJ$5, 1, ROWS('Graph Data'!$D$2:D36))} -> 0 | E36: ='PCO Log'!AM8 -> 0 | F36: ='PCO Log'!AM3 -> 0 | G36: ='PCO Log'!AM10 -> 0 | H36: ='PCO Log'!AM6 -> 0 | J36: Pay App 35 | K36: ='Pay App 35'!H33 -> 0 | L36: =IF(M36>0,'Pay App 35'!$G$149,0) -> 0 | M36: ='Pay App 35'!H149 -> 0 | O36: ='Pay App 1'!B91 -> 07 80 00 | P36: ='Pay App 1'!C91 -> Fireproofing | Q36: =SUMIFS('PCO Log'!$E46:$SJ46,'PCO Log'!$E$9:$SJ$9,'Graph Data'!Q$1,'PCO Log'!$E$7:$SJ$7,"Approved") -> 0 | R36: =SUMIFS('PCO Log'!$E46:$SJ46,'PCO Log'!$E$9:$SJ$9,'Graph Data'!R$1,'PCO Log'!$E$7:$SJ$7,"Approved") -> 0 | S36: =SUMIFS('PCO Log'!$E46:$SJ46,'PCO Log'!$E$9:$SJ$9,'Graph Data'!S$1,'PCO Log'!$E$7:$SJ$7,"Approved") -> 0 | T36: =SUMIFS('PCO Log'!$E46:$SJ46,'PCO Log'!$E$9:$SJ$9,'Graph Data'!T$1,'PCO Log'!$E$7:$SJ$7,"Approved") -> 0 | U36: =SUMIFS('PCO Log'!$E46:$SJ46,'PCO Log'!$E$9:$SJ$9,'Graph Data'!U$1,'PCO Log'!$E$7:$SJ$7,"Approved") -> 0 | V36: =SUMIFS('PCO Log'!$E46:$SJ46,'PCO Log'!$E$9:$SJ$9,'Graph Data'!V$1,'PCO Log'!$E$7:$SJ$7,"Approved") -> 0 | W36: =SUMIFS('PCO Log'!$E46:$SJ46,'PCO Log'!$E$9:$SJ$9,'Graph Data'!W$1,'PCO Log'!$E$7:$SJ$7,"Approved") -> 0 | X36: =SUMIFS('PCO Log'!$E46:$SJ46,'PCO Log'!$E$9:$SJ$9,'Graph Data'!X$1,'PCO Log'!$E$7:$SJ$7,"Approved") -> 0 | ... BX36: =SUMIFS('PCO Log'!$E46:$SJ46,'PCO Log'!$E$9:$SJ$9,'Graph Data'!BX$1,'PCO Log'!$E$7:$SJ$7,"Approved") -> 0
A37: PCO 36 | B37: ='PCO Log'!AN7 -> 0 | C37: ='PCO Log'!AN4 -> 0 | D37: {=INDEX('PCO Log'!$E$5:$SJ$5, 1, ROWS('Graph Data'!$D$2:D37))} -> 0 | E37: ='PCO Log'!AN8 -> 0 | F37: ='PCO Log'!AN3 -> 0 | G37: ='PCO Log'!AN10 -> 0 | H37: ='PCO Log'!AN6 -> 0 | J37: Pay App 36 | K37: ='Pay App 36'!H33 -> 0 | L37: =IF(M37>0,'Pay App 36'!$G$149,0) -> 0 | M37: ='Pay App 36'!H149 -> 0 | O37: ='Pay App 1'!B92 -> 07 90 00 | P37: ='Pay App 1'!C92 -> Joint Sealants | Q37: =SUMIFS('PCO Log'!$E47:$SJ47,'PCO Log'!$E$9:$SJ$9,'Graph Data'!Q$1,'PCO Log'!$E$7:$SJ$7,"Approved") -> 0 | R37: =SUMIFS('PCO Log'!$E47:$SJ47,'PCO Log'!$E$9:$SJ$9,'Graph Data'!R$1,'PCO Log'!$E$7:$SJ$7,"Approved") -> 0 | S37: =SUMIFS('PCO Log'!$E47:$SJ47,'PCO Log'!$E$9:$SJ$9,'Graph Data'!S$1,'PCO Log'!$E$7:$SJ$7,"Approved") -> 0 | T37: =SUMIFS('PCO Log'!$E47:$SJ47,'PCO Log'!$E$9:$SJ$9,'Graph Data'!T$1,'PCO Log'!$E$7:$SJ$7,"Approved") -> 0 | U37: =SUMIFS('PCO Log'!$E47:$SJ47,'PCO Log'!$E$9:$SJ$9,'Graph Data'!U$1,'PCO Log'!$E$7:$SJ$7,"Approved") -> 0 | V37: =SUMIFS('PCO Log'!$E47:$SJ47,'PCO Log'!$E$9:$SJ$9,'Graph Data'!V$1,'PCO Log'!$E$7:$SJ$7,"Approved") -> 0 | W37: =SUMIFS('PCO Log'!$E47:$SJ47,'PCO Log'!$E$9:$SJ$9,'Graph Data'!W$1,'PCO Log'!$E$7:$SJ$7,"Approved") -> 0 | X37: =SUMIFS('PCO Log'!$E47:$SJ47,'PCO Log'!$E$9:$SJ$9,'Graph Data'!X$1,'PCO Log'!$E$7:$SJ$7,"Approved") -> 0 | ... BX37: =SUMIFS('PCO Log'!$E47:$SJ47,'PCO Log'!$E$9:$SJ$9,'Graph Data'!BX$1,'PCO Log'!$E$7:$SJ$7,"Approved") -> 0
A38: PCO 37 | B38: ='PCO Log'!AO7 -> 0 | C38: ='PCO Log'!AO4 -> 0 | D38: {=INDEX('PCO Log'!$E$5:$SJ$5, 1, ROWS('Graph Data'!$D$2:D38))} -> 0 | E38: ='PCO Log'!AO8 -> 0 | F38: ='PCO Log'!AO3 -> 0 | G38: ='PCO Log'!AO10 -> 0 | H38: ='PCO Log'!AO6 -> 0 | J38: Pay App 37 | K38: ='Pay App 37'!H33 -> 0 | L38: =IF(M38>0,'Pay App 37'!$G$149,0) -> 0 | M38: ='Pay App 37'!H149 -> 0 | O38: ='Pay App 1'!B93 -> 07 95 00 | P38: ='Pay App 1'!C93 -> Expansion Joints | Q38: =SUMIFS('PCO Log'!$E48:$SJ48,'PCO Log'!$E$9:$SJ$9,'Graph Data'!Q$1,'PCO Log'!$E$7:$SJ$7,"Approved") -> 0 | R38: =SUMIFS('PCO Log'!$E48:$SJ48,'PCO Log'!$E$9:$SJ$9,'Graph Data'!R$1,'PCO Log'!$E$7:$SJ$7,"Approved") -> 0 | S38: =SUMIFS('PCO Log'!$E48:$SJ48,'PCO Log'!$E$9:$SJ$9,'Graph Data'!S$1,'PCO Log'!$E$7:$SJ$7,"Approved") -> 0 | T38: =SUMIFS('PCO Log'!$E48:$SJ48,'PCO Log'!$E$9:$SJ$9,'Graph Data'!T$1,'PCO Log'!$E$7:$SJ$7,"Approved") -> 0 | U38: =SUMIFS('PCO Log'!$E48:$SJ48,'PCO Log'!$E$9:$SJ$9,'Graph Data'!U$1,'PCO Log'!$E$7:$SJ$7,"Approved") -> 0 | V38: =SUMIFS('PCO Log'!$E48:$SJ48,'PCO Log'!$E$9:$SJ$9,'Graph Data'!V$1,'PCO Log'!$E$7:$SJ$7,"Approved") -> 0 | W38: =SUMIFS('PCO Log'!$E48:$SJ48,'PCO Log'!$E$9:$SJ$9,'Graph Data'!W$1,'PCO Log'!$E$7:$SJ$7,"Approved") -> 0 | X38: =SUMIFS('PCO Log'!$E48:$SJ48,'PCO Log'!$E$9:$SJ$9,'Graph Data'!X$1,'PCO Log'!$E$7:$SJ$7,"Approved") -> 0 | ... BX38: =SUMIFS('PCO Log'!$E48:$SJ48,'PCO Log'!$E$9:$SJ$9,'Graph Data'!BX$1,'PCO Log'!$E$7:$SJ$7,"Approved") -> 0
A39: PCO 38 | B39: ='PCO Log'!AP7 -> 0 | C39: ='PCO Log'!AP4 -> 0 | D39: {=INDEX('PCO Log'!$E$5:$SJ$5, 1, ROWS('Graph Data'!$D$2:D39))} -> 0 | E39: ='PCO Log'!AP8 -> 0 | F39: ='PCO Log'!AP3 -> 0 | G39: ='PCO Log'!AP10 -> 0 | H39: ='PCO Log'!AP6 -> 0 | J39: Pay App 38 | K39: ='Pay App 38'!H33 -> 0 | L39: =IF(M39>0,'Pay App 38'!$G$149,0) -> 0 | M39: ='Pay App 38'!H149 -> 0 | O39: ='Pay App 1'!B94 -> 08 10 00 | P39: ='Pay App 1'!C94 -> Doors, Frames & Hardware | Q39: =SUMIFS('PCO Log'!$E49:$SJ49,'PCO Log'!$E$9:$SJ$9,'Graph Data'!Q$1,'PCO Log'!$E$7:$SJ$7,"Approved") -> 0 | R39: =SUMIFS('PCO Log'!$E49:$SJ49,'PCO Log'!$E$9:$SJ$9,'Graph Data'!R$1,'PCO Log'!$E$7:$SJ$7,"Approved") -> 0 | S39: =SUMIFS('PCO Log'!$E49:$SJ49,'PCO Log'!$E$9:$SJ$9,'Graph Data'!S$1,'PCO Log'!$E$7:$SJ$7,"Approved") -> 0 | T39: =SUMIFS('PCO Log'!$E49:$SJ49,'PCO Log'!$E$9:$SJ$9,'Graph Data'!T$1,'PCO Log'!$E$7:$SJ$7,"Approved") -> 0 | U39: =SUMIFS('PCO Log'!$E49:$SJ49,'PCO Log'!$E$9:$SJ$9,'Graph Data'!U$1,'PCO Log'!$E$7:$SJ$7,"Approved") -> 0 | V39: =SUMIFS('PCO Log'!$E49:$SJ49,'PCO Log'!$E$9:$SJ$9,'Graph Data'!V$1,'PCO Log'!$E$7:$SJ$7,"Approved") -> 0 | W39: =SUMIFS('PCO Log'!$E49:$SJ49,'PCO Log'!$E$9:$SJ$9,'Graph Data'!W$1,'PCO Log'!$E$7:$SJ$7,"Approved") -> 0 | X39: =SUMIFS('PCO Log'!$E49:$SJ49,'PCO Log'!$E$9:$SJ$9,'Graph Data'!X$1,'PCO Log'!$E$7:$SJ$7,"Approved") -> 0 | ... BX39: =SUMIFS('PCO Log'!$E49:$SJ49,'PCO Log'!$E$9:$SJ$9,'Graph Data'!BX$1,'PCO Log'!$E$7:$SJ$7,"Approved") -> 0
A40: PCO 39 | B40: ='PCO Log'!AQ7 -> 0 | C40: ='PCO Log'!AQ4 -> 0 | D40: {=INDEX('PCO Log'!$E$5:$SJ$5, 1, ROWS('Graph Data'!$D$2:D40))} -> 0 | E40: ='PCO Log'!AQ8 -> 0 | F40: ='PCO Log'!AQ3 -> 0 | G40: ='PCO Log'!AQ10 -> 0 | H40: ='PCO Log'!AQ6 -> 0 | J40: Pay App 39 | K40: ='Pay App 39'!H33 -> 0 | L40: =IF(M40>0,'Pay App 39'!$G$149,0) -> 0 | M40: ='Pay App 39'!H149 -> 0 | O40: ='Pay App 1'!B95 -> 08 30 00 | P40: ='Pay App 1'!C95 -> Specialty Doors | Q40: =SUMIFS('PCO Log'!$E50:$SJ50,'PCO Log'!$E$9:$SJ$9,'Graph Data'!Q$1,'PCO Log'!$E$7:$SJ$7,"Approved") -> 0 | R40: =SUMIFS('PCO Log'!$E50:$SJ50,'PCO Log'!$E$9:$SJ$9,'Graph Data'!R$1,'PCO Log'!$E$7:$SJ$7,"Approved") -> 0 | S40: =SUMIFS('PCO Log'!$E50:$SJ50,'PCO Log'!$E$9:$SJ$9,'Graph Data'!S$1,'PCO Log'!$E$7:$SJ$7,"Approved") -> 0 | T40: =SUMIFS('PCO Log'!$E50:$SJ50,'PCO Log'!$E$9:$SJ$9,'Graph Data'!T$1,'PCO Log'!$E$7:$SJ$7,"Approved") -> 0 | U40: =SUMIFS('PCO Log'!$E50:$SJ50,'PCO Log'!$E$9:$SJ$9,'Graph Data'!U$1,'PCO Log'!$E$7:$SJ$7,"Approved") -> 0 | V40: =SUMIFS('PCO Log'!$E50:$SJ50,'PCO Log'!$E$9:$SJ$9,'Graph Data'!V$1,'PCO Log'!$E$7:$SJ$7,"Approved") -> 0 | W40: =SUMIFS('PCO Log'!$E50:$SJ50,'PCO Log'!$E$9:$SJ$9,'Graph Data'!W$1,'PCO Log'!$E$7:$SJ$7,"Approved") -> 0 | X40: =SUMIFS('PCO Log'!$E50:$SJ50,'PCO Log'!$E$9:$SJ$9,'Graph Data'!X$1,'PCO Log'!$E$7:$SJ$7,"Approved") -> 0 | ... BX40: =SUMIFS('PCO Log'!$E50:$SJ50,'PCO Log'!$E$9:$SJ$9,'Graph Data'!BX$1,'PCO Log'!$E$7:$SJ$7,"Approved") -> 0
...

Sheet CostPerSqFt Tracker
D1: COST/SQ.FT. TRACKER | F1: Ctrl + Alt + F9 to refresh formulas
B2: CSI Code | C2: Work Category | D2: Running % Change | E2: GMP $/SF | F2: Pay App 1 | H2: Pay App 2 | J2: Pay App 3 | L2: Pay App 4 | N2: Pay App 5 | P2: Pay App 6 | R2: Pay App 7 | T2: Pay App 8 | V2: Pay App 9 | X2: Pay App 10 | Z2: Pay App 11 | AB2: Pay App 12 | AD2: Pay App 13 | AF2: Pay App 14 | AH2: Pay App 15 | AJ2: Pay App 16 | AL2: Pay App 17 | AN2: Pay App 18 | AP2: Pay App 19 | AR2: Pay App 20 | AT2: Pay App 21 | AV2: Pay App 22 | AX2: Pay App 23 | AZ2: Pay App 24 | BB2: Pay App 25 | BD2: Pay App 26 | BF2: Pay App 27 | BH2: Pay App 28 | BJ2: Pay App 29 | BL2: Pay App 30 | BN2: Pay App 31 | BP2: Pay App 32 | BR2: Pay App 33 | BT2: Pay App 34 | BV2: Pay App 35 | BX2: Pay App 36 | BZ2: Pay App 37 | CB2: Pay App 38 | CD2: Pay App 39 | CF2: Pay App 40 | CH2: Pay App 41 | CJ2: Pay App 42 | CL2: Pay App 43 | CN2: Pay App 44 | CP2: Pay App 45 | CR2: Pay App 46 | CT2: Pay App 47 | CV2: Pay App 48 | CX2: Pay App 49 | CZ2: Pay App 50 | DB2: Pay App 51 | DD2: Pay App 52 | DF2: Pay App 53 | DH2: Pay App 54 | DJ2: Pay App 55 | DL2: Pay App 56 | DN2: Pay App 57 | DP2: Pay App 58 | DR2: Pay App 59 | DT2: Pay App 60
